BEGIN:VCALENDAR
VERSION:2.0
PRODID:-//Samuel Beckett&#039;s Irish Gastro Pub - ECPv6.15.20//NONSGML v1.0//EN
CALSCALE:GREGORIAN
METHOD:PUBLISH
X-ORIGINAL-URL:https://samuelbecketts.com
X-WR-CALDESC:Events for Samuel Beckett&#039;s Irish Gastro Pub
REFRESH-INTERVAL;VALUE=DURATION:PT1H
X-Robots-Tag:noindex
X-PUBLISHED-TTL:PT1H
BEGIN:VTIMEZONE
TZID:America/New_York
BEGIN:DAYLIGHT
TZOFFSETFROM:-0500
TZOFFSETTO:-0400
TZNAME:EDT
DTSTART:20250309T070000
END:DAYLIGHT
BEGIN:STANDARD
TZOFFSETFROM:-0400
TZOFFSETTO:-0500
TZNAME:EST
DTSTART:20251102T060000
END:STANDARD
BEGIN:DAYLIGHT
TZOFFSETFROM:-0500
TZOFFSETTO:-0400
TZNAME:EDT
DTSTART:20260308T070000
END:DAYLIGHT
BEGIN:STANDARD
TZOFFSETFROM:-0400
TZOFFSETTO:-0500
TZNAME:EST
DTSTART:20261101T060000
END:STANDARD
BEGIN:DAYLIGHT
TZOFFSETFROM:-0500
TZOFFSETTO:-0400
TZNAME:EDT
DTSTART:20270314T070000
END:DAYLIGHT
BEGIN:STANDARD
TZOFFSETFROM:-0400
TZOFFSETTO:-0500
TZNAME:EST
DTSTART:20271107T060000
END:STANDARD
END:VTIMEZONE
BEGIN:VEVENT
DTSTART;TZID=America/New_York:20260102T210000
DTEND;TZID=America/New_York:20260102T233000
DTSTAMP:20260424T064515
CREATED:20260102T214859Z
LAST-MODIFIED:20260102T214859Z
UID:3213-1767387600-1767396600@samuelbecketts.com
SUMMARY:Colby Sard
DESCRIPTION:Live Music from 9PM – Late
URL:https://samuelbecketts.com/event/colby-sard-9/
CATEGORIES:Music & Events
END:VEVENT
BEGIN:VEVENT
DTSTART;TZID=America/New_York:20260103T210000
DTEND;TZID=America/New_York:20260103T233000
DTSTAMP:20260424T064515
CREATED:20260102T214957Z
LAST-MODIFIED:20260102T214957Z
UID:3215-1767474000-1767483000@samuelbecketts.com
SUMMARY:Drew Stevyns
DESCRIPTION:Live Music from 9PM – Late
URL:https://samuelbecketts.com/event/drew-stevyns-14/
CATEGORIES:Music & Events
END:VEVENT
BEGIN:VEVENT
DTSTART;TZID=America/New_York:20260108T210000
DTEND;TZID=America/New_York:20260108T233000
DTSTAMP:20260424T064515
CREATED:20260102T215102Z
LAST-MODIFIED:20260102T215102Z
UID:3217-1767906000-1767915000@samuelbecketts.com
SUMMARY:Yasmin
DESCRIPTION:Live Music from 9PM – Late
URL:https://samuelbecketts.com/event/yasmin-5/
CATEGORIES:Music & Events
END:VEVENT
BEGIN:VEVENT
DTSTART;TZID=America/New_York:20260109T210000
DTEND;TZID=America/New_York:20260109T233000
DTSTAMP:20260424T064515
CREATED:20260102T215134Z
LAST-MODIFIED:20260102T215134Z
UID:3219-1767992400-1768001400@samuelbecketts.com
SUMMARY:Jon G
DESCRIPTION:Live Music from 9PM – Late
URL:https://samuelbecketts.com/event/jon-g-9/
CATEGORIES:Music & Events
END:VEVENT
BEGIN:VEVENT
DTSTART;TZID=America/New_York:20260110T210000
DTEND;TZID=America/New_York:20260110T233000
DTSTAMP:20260424T064515
CREATED:20260102T215201Z
LAST-MODIFIED:20260102T215201Z
UID:3221-1768078800-1768087800@samuelbecketts.com
SUMMARY:Something Shiny
DESCRIPTION:Live Music from 9PM – Late
URL:https://samuelbecketts.com/event/something-shiny-5/
CATEGORIES:Music & Events
END:VEVENT
BEGIN:VEVENT
DTSTART;TZID=America/New_York:20260115T210000
DTEND;TZID=America/New_York:20260115T233000
DTSTAMP:20260424T064515
CREATED:20260102T215355Z
LAST-MODIFIED:20260102T215355Z
UID:3227-1768510800-1768519800@samuelbecketts.com
SUMMARY:Spike Burton
DESCRIPTION:Live Music from 9PM – Late
URL:https://samuelbecketts.com/event/spike-burton-36/
CATEGORIES:Music & Events
END:VEVENT
BEGIN:VEVENT
DTSTART;TZID=America/New_York:20260116T210000
DTEND;TZID=America/New_York:20260116T233000
DTSTAMP:20260424T064515
CREATED:20260102T215432Z
LAST-MODIFIED:20260102T215432Z
UID:3229-1768597200-1768606200@samuelbecketts.com
SUMMARY:Devin Breithaupt
DESCRIPTION:Live Music from 9PM – Late
URL:https://samuelbecketts.com/event/devin-breithaupt-4/
CATEGORIES:Music & Events
END:VEVENT
BEGIN:VEVENT
DTSTART;TZID=America/New_York:20260117T210000
DTEND;TZID=America/New_York:20260117T233000
DTSTAMP:20260424T064515
CREATED:20260102T215500Z
LAST-MODIFIED:20260102T215500Z
UID:3231-1768683600-1768692600@samuelbecketts.com
SUMMARY:Yasmin
DESCRIPTION:Live Music from 9PM – Late
URL:https://samuelbecketts.com/event/yasmin-6/
CATEGORIES:Music & Events
END:VEVENT
BEGIN:VEVENT
DTSTART;TZID=America/New_York:20260122T210000
DTEND;TZID=America/New_York:20260122T233000
DTSTAMP:20260424T064515
CREATED:20260102T215540Z
LAST-MODIFIED:20260102T215540Z
UID:3233-1769115600-1769124600@samuelbecketts.com
SUMMARY:Lenny Burridge
DESCRIPTION:Live Music from 9PM – Late
URL:https://samuelbecketts.com/event/lenny-burridge-21/
CATEGORIES:Music & Events
END:VEVENT
BEGIN:VEVENT
DTSTART;TZID=America/New_York:20260123T210000
DTEND;TZID=America/New_York:20260123T233000
DTSTAMP:20260424T064515
CREATED:20260102T215626Z
LAST-MODIFIED:20260102T215626Z
UID:3235-1769202000-1769211000@samuelbecketts.com
SUMMARY:Spike Burton
DESCRIPTION:Live Music from 9PM – Late
URL:https://samuelbecketts.com/event/spike-burton-37/
CATEGORIES:Music & Events
END:VEVENT
BEGIN:VEVENT
DTSTART;TZID=America/New_York:20260124T210000
DTEND;TZID=America/New_York:20260124T233000
DTSTAMP:20260424T064515
CREATED:20260102T215704Z
LAST-MODIFIED:20260102T215704Z
UID:3237-1769288400-1769297400@samuelbecketts.com
SUMMARY:Rocky Guttman
DESCRIPTION:Live Music from 9PM – Late
URL:https://samuelbecketts.com/event/rocky-guttman-8/
CATEGORIES:Music & Events
END:VEVENT
BEGIN:VEVENT
DTSTART;TZID=America/New_York:20260125T160000
DTEND;TZID=America/New_York:20260125T180000
DTSTAMP:20260424T064515
CREATED:20260102T220659Z
LAST-MODIFIED:20260102T220659Z
UID:3241-1769356800-1769364000@samuelbecketts.com
SUMMARY:Brandon Kennedy
DESCRIPTION:Live Music from 4PM – 6PM
URL:https://samuelbecketts.com/event/brandon-kennedy-3/
CATEGORIES:Music & Events
END:VEVENT
BEGIN:VEVENT
DTSTART;TZID=America/New_York:20260129T210000
DTEND;TZID=America/New_York:20260129T233000
DTSTAMP:20260424T064515
CREATED:20260102T215735Z
LAST-MODIFIED:20260102T215735Z
UID:3239-1769720400-1769729400@samuelbecketts.com
SUMMARY:Lenny Burridge
DESCRIPTION:Live Music from 9PM – Late
URL:https://samuelbecketts.com/event/lenny-burridge-22/
CATEGORIES:Music & Events
END:VEVENT
BEGIN:VEVENT
DTSTART;TZID=America/New_York:20260130T210000
DTEND;TZID=America/New_York:20260130T233000
DTSTAMP:20260424T064515
CREATED:20260102T215240Z
LAST-MODIFIED:20260102T215240Z
UID:3223-1769806800-1769815800@samuelbecketts.com
SUMMARY:Eddie Pasa
DESCRIPTION:Live Music from 9PM – Late
URL:https://samuelbecketts.com/event/eddie-pasa-28/
CATEGORIES:Music & Events
END:VEVENT
BEGIN:VEVENT
DTSTART;TZID=America/New_York:20260131T210000
DTEND;TZID=America/New_York:20260131T233000
DTSTAMP:20260424T064515
CREATED:20260131T055347Z
LAST-MODIFIED:20260131T055347Z
UID:3254-1769893200-1769902200@samuelbecketts.com
SUMMARY:Spike Burton
DESCRIPTION:Live Music from 9PM – Late
URL:https://samuelbecketts.com/event/spike-burton-38/
CATEGORIES:Music & Events
END:VEVENT
END:VCALENDAR