BEGIN:VCALENDAR
VERSION:2.0
PRODID:-//Samuel Beckett&#039;s Irish Gastro Pub - ECPv6.15.20//NONSGML v1.0//EN
CALSCALE:GREGORIAN
METHOD:PUBLISH
X-ORIGINAL-URL:https://samuelbecketts.com
X-WR-CALDESC:Events for Samuel Beckett&#039;s Irish Gastro Pub
REFRESH-INTERVAL;VALUE=DURATION:PT1H
X-Robots-Tag:noindex
X-PUBLISHED-TTL:PT1H
BEGIN:VTIMEZONE
TZID:America/New_York
BEGIN:DAYLIGHT
TZOFFSETFROM:-0500
TZOFFSETTO:-0400
TZNAME:EDT
DTSTART:20240310T070000
END:DAYLIGHT
BEGIN:STANDARD
TZOFFSETFROM:-0400
TZOFFSETTO:-0500
TZNAME:EST
DTSTART:20241103T060000
END:STANDARD
BEGIN:DAYLIGHT
TZOFFSETFROM:-0500
TZOFFSETTO:-0400
TZNAME:EDT
DTSTART:20250309T070000
END:DAYLIGHT
BEGIN:STANDARD
TZOFFSETFROM:-0400
TZOFFSETTO:-0500
TZNAME:EST
DTSTART:20251102T060000
END:STANDARD
BEGIN:DAYLIGHT
TZOFFSETFROM:-0500
TZOFFSETTO:-0400
TZNAME:EDT
DTSTART:20260308T070000
END:DAYLIGHT
BEGIN:STANDARD
TZOFFSETFROM:-0400
TZOFFSETTO:-0500
TZNAME:EST
DTSTART:20261101T060000
END:STANDARD
END:VTIMEZONE
BEGIN:VEVENT
DTSTART;TZID=America/New_York:20251204T210000
DTEND;TZID=America/New_York:20251204T233000
DTSTAMP:20260424T081754
CREATED:20251207T013043Z
LAST-MODIFIED:20251207T013043Z
UID:3178-1764882000-1764891000@samuelbecketts.com
SUMMARY:Lenny Burridge
DESCRIPTION:Live Music from 9PM – Late
URL:https://samuelbecketts.com/event/lenny-burridge-19/
CATEGORIES:Music & Events
END:VEVENT
BEGIN:VEVENT
DTSTART;TZID=America/New_York:20251205T210000
DTEND;TZID=America/New_York:20251205T233000
DTSTAMP:20260424T081754
CREATED:20251207T013113Z
LAST-MODIFIED:20251207T013113Z
UID:3180-1764968400-1764977400@samuelbecketts.com
SUMMARY:Spike Burton
DESCRIPTION:Live Music from 9PM – Late
URL:https://samuelbecketts.com/event/spike-burton-34/
CATEGORIES:Music & Events
END:VEVENT
BEGIN:VEVENT
DTSTART;TZID=America/New_York:20251206T200000
DTEND;TZID=America/New_York:20251206T233000
DTSTAMP:20260424T081754
CREATED:20251115T042851Z
LAST-MODIFIED:20251115T042851Z
UID:3170-1765051200-1765063800@samuelbecketts.com
SUMMARY:Toys for Tots Drive/Ugly Sweater Holiday Event
DESCRIPTION:Wear an Ugly Holiday Sweater for a chance to win prizes! \nDonate a Toy for Toys for Tots!
URL:https://samuelbecketts.com/event/toys-for-tots-drive-ugly-sweater-holiday-event/
CATEGORIES:Music & Events
END:VEVENT
BEGIN:VEVENT
DTSTART;TZID=America/New_York:20251206T210000
DTEND;TZID=America/New_York:20251206T233000
DTSTAMP:20260424T081754
CREATED:20251207T013154Z
LAST-MODIFIED:20251207T013154Z
UID:3182-1765054800-1765063800@samuelbecketts.com
SUMMARY:Drew Stevyns & Ian Lafferty
DESCRIPTION:Live Music from 9PM – Late
URL:https://samuelbecketts.com/event/drew-stevyns-ian-lafferty-5/
CATEGORIES:Music & Events
END:VEVENT
BEGIN:VEVENT
DTSTART;TZID=America/New_York:20251210T190000
DTEND;TZID=America/New_York:20251210T233000
DTSTAMP:20260424T081754
CREATED:20251115T042600Z
LAST-MODIFIED:20251115T042600Z
UID:3168-1765393200-1765409400@samuelbecketts.com
SUMMARY:Whiskey Dinner
DESCRIPTION:Whiskey Dinner Featuring Green Spot\, Yellow Spot\, Gold Spot. \nWelcome Cocktail\, Three Course Meal\, Irish Coffee.
URL:https://samuelbecketts.com/event/whiskey-dinner/
CATEGORIES:Music & Events
END:VEVENT
BEGIN:VEVENT
DTSTART;TZID=America/New_York:20251211T210000
DTEND;TZID=America/New_York:20251211T233000
DTSTAMP:20260424T081754
CREATED:20251207T013237Z
LAST-MODIFIED:20251207T013237Z
UID:3184-1765486800-1765495800@samuelbecketts.com
SUMMARY:Devin Breithaupt
DESCRIPTION:Live Music from 9PM – Late
URL:https://samuelbecketts.com/event/devin-breithaupt-3/
CATEGORIES:Music & Events
END:VEVENT
BEGIN:VEVENT
DTSTART;TZID=America/New_York:20251212T210000
DTEND;TZID=America/New_York:20251212T233000
DTSTAMP:20260424T081754
CREATED:20251207T013309Z
LAST-MODIFIED:20251207T013309Z
UID:3186-1765573200-1765582200@samuelbecketts.com
SUMMARY:Eddie Pasa
DESCRIPTION:Live Music from 9PM – Late
URL:https://samuelbecketts.com/event/eddie-pasa-27/
CATEGORIES:Music & Events
END:VEVENT
BEGIN:VEVENT
DTSTART;TZID=America/New_York:20251213T210000
DTEND;TZID=America/New_York:20251213T233000
DTSTAMP:20260424T081754
CREATED:20251207T013341Z
LAST-MODIFIED:20251207T013341Z
UID:3188-1765659600-1765668600@samuelbecketts.com
SUMMARY:Yasmin
DESCRIPTION:Live Music from 9PM – Late
URL:https://samuelbecketts.com/event/yasmin-3/
CATEGORIES:Music & Events
END:VEVENT
BEGIN:VEVENT
DTSTART;TZID=America/New_York:20251218T210000
DTEND;TZID=America/New_York:20251218T233000
DTSTAMP:20260424T081754
CREATED:20251207T013424Z
LAST-MODIFIED:20251207T013424Z
UID:3190-1766091600-1766100600@samuelbecketts.com
SUMMARY:Lenny Burridge
DESCRIPTION:Live Music from 9PM – Late
URL:https://samuelbecketts.com/event/lenny-burridge-20/
CATEGORIES:Music & Events
END:VEVENT
BEGIN:VEVENT
DTSTART;TZID=America/New_York:20251219T210000
DTEND;TZID=America/New_York:20251219T233000
DTSTAMP:20260424T081754
CREATED:20251207T013505Z
LAST-MODIFIED:20251207T013505Z
UID:3192-1766178000-1766187000@samuelbecketts.com
SUMMARY:Steve Bray
DESCRIPTION:Live Music from 9PM – Late
URL:https://samuelbecketts.com/event/steve-bray-26/
CATEGORIES:Music & Events
END:VEVENT
BEGIN:VEVENT
DTSTART;TZID=America/New_York:20251220T210000
DTEND;TZID=America/New_York:20251220T233000
DTSTAMP:20260424T081754
CREATED:20251207T013541Z
LAST-MODIFIED:20251207T013541Z
UID:3194-1766264400-1766273400@samuelbecketts.com
SUMMARY:Rocky Guttman
DESCRIPTION:Live Music from 9PM – Late
URL:https://samuelbecketts.com/event/rocky-guttman-7/
CATEGORIES:Music & Events
END:VEVENT
BEGIN:VEVENT
DTSTART;TZID=America/New_York:20251225T080000
DTEND;TZID=America/New_York:20251225T233000
DTSTAMP:20260424T081754
CREATED:20251115T043011Z
LAST-MODIFIED:20251115T043011Z
UID:3172-1766649600-1766705400@samuelbecketts.com
SUMMARY:Closed For Christmas
DESCRIPTION:
URL:https://samuelbecketts.com/event/closed-for-christmas/
CATEGORIES:Music & Events
END:VEVENT
BEGIN:VEVENT
DTSTART;TZID=America/New_York:20251226T210000
DTEND;TZID=America/New_York:20251226T233000
DTSTAMP:20260424T081754
CREATED:20251207T013617Z
LAST-MODIFIED:20251207T013617Z
UID:3196-1766782800-1766791800@samuelbecketts.com
SUMMARY:Yasmin
DESCRIPTION:Live Music from 9PM – Late
URL:https://samuelbecketts.com/event/yasmin-4/
CATEGORIES:Music & Events
END:VEVENT
BEGIN:VEVENT
DTSTART;TZID=America/New_York:20251227T210000
DTEND;TZID=America/New_York:20251227T233000
DTSTAMP:20260424T081754
CREATED:20251207T013649Z
LAST-MODIFIED:20251207T013649Z
UID:3198-1766869200-1766878200@samuelbecketts.com
SUMMARY:Mike Leverone
DESCRIPTION:Live Music from 9PM – Late
URL:https://samuelbecketts.com/event/mike-leverone-25/
CATEGORIES:Music & Events
END:VEVENT
BEGIN:VEVENT
DTSTART;TZID=America/New_York:20251228T120000
DTEND;TZID=America/New_York:20251228T180000
DTSTAMP:20260424T081754
CREATED:20251213T025518Z
LAST-MODIFIED:20251213T025518Z
UID:3208-1766923200-1766944800@samuelbecketts.com
SUMMARY:Trad Session
DESCRIPTION:Live Trad Music from 12 – 6PM
URL:https://samuelbecketts.com/event/trad-session-10/
CATEGORIES:Music & Events
END:VEVENT
BEGIN:VEVENT
DTSTART;TZID=America/New_York:20251231T180000
DTEND;TZID=America/New_York:20251231T210000
DTSTAMP:20260424T081754
CREATED:20251207T013804Z
LAST-MODIFIED:20251207T013804Z
UID:3200-1767204000-1767214800@samuelbecketts.com
SUMMARY:Matt Burridge
DESCRIPTION:Live Music to Ring in the Irish New Year!!!
URL:https://samuelbecketts.com/event/matt-burridge-8/
CATEGORIES:Music & Events
END:VEVENT
BEGIN:VEVENT
DTSTART;TZID=America/New_York:20251231T220000
DTEND;TZID=America/New_York:20251231T233000
DTSTAMP:20260424T081754
CREATED:20251207T013841Z
LAST-MODIFIED:20251207T013841Z
UID:3202-1767218400-1767223800@samuelbecketts.com
SUMMARY:Spike Burton
DESCRIPTION:Live Music from 10PM – Late
URL:https://samuelbecketts.com/event/spike-burton-35/
CATEGORIES:Music & Events
END:VEVENT
END:VCALENDAR