BEGIN:VCALENDAR
VERSION:2.0
PRODID:-//Samuel Beckett&#039;s Irish Gastro Pub - ECPv6.15.20//NONSGML v1.0//EN
CALSCALE:GREGORIAN
METHOD:PUBLISH
X-ORIGINAL-URL:https://samuelbecketts.com
X-WR-CALDESC:Events for Samuel Beckett&#039;s Irish Gastro Pub
REFRESH-INTERVAL;VALUE=DURATION:PT1H
X-Robots-Tag:noindex
X-PUBLISHED-TTL:PT1H
BEGIN:VTIMEZONE
TZID:America/New_York
BEGIN:DAYLIGHT
TZOFFSETFROM:-0500
TZOFFSETTO:-0400
TZNAME:EDT
DTSTART:20240310T070000
END:DAYLIGHT
BEGIN:STANDARD
TZOFFSETFROM:-0400
TZOFFSETTO:-0500
TZNAME:EST
DTSTART:20241103T060000
END:STANDARD
BEGIN:DAYLIGHT
TZOFFSETFROM:-0500
TZOFFSETTO:-0400
TZNAME:EDT
DTSTART:20250309T070000
END:DAYLIGHT
BEGIN:STANDARD
TZOFFSETFROM:-0400
TZOFFSETTO:-0500
TZNAME:EST
DTSTART:20251102T060000
END:STANDARD
BEGIN:DAYLIGHT
TZOFFSETFROM:-0500
TZOFFSETTO:-0400
TZNAME:EDT
DTSTART:20260308T070000
END:DAYLIGHT
BEGIN:STANDARD
TZOFFSETFROM:-0400
TZOFFSETTO:-0500
TZNAME:EST
DTSTART:20261101T060000
END:STANDARD
END:VTIMEZONE
BEGIN:VEVENT
DTSTART;TZID=America/New_York:20250801T210000
DTEND;TZID=America/New_York:20250801T233000
DTSTAMP:20260424T152338
CREATED:20250801T203239Z
LAST-MODIFIED:20250801T203239Z
UID:3103-1754082000-1754091000@samuelbecketts.com
SUMMARY:Drew Stevyns
DESCRIPTION:Live music is 9pm until Late!
URL:https://samuelbecketts.com/event/drew-stevyns-12/
CATEGORIES:Music & Events
END:VEVENT
BEGIN:VEVENT
DTSTART;TZID=America/New_York:20250802T210000
DTEND;TZID=America/New_York:20250802T233000
DTSTAMP:20260424T152338
CREATED:20250801T203639Z
LAST-MODIFIED:20250801T203639Z
UID:3105-1754168400-1754177400@samuelbecketts.com
SUMMARY:Matt Burridge
DESCRIPTION:Live music is 9pm until Late!
URL:https://samuelbecketts.com/event/matt-burridge-6/
CATEGORIES:Music & Events
END:VEVENT
BEGIN:VEVENT
DTSTART;TZID=America/New_York:20250807T210000
DTEND;TZID=America/New_York:20250807T233000
DTSTAMP:20260424T152338
CREATED:20250801T203732Z
LAST-MODIFIED:20250801T203732Z
UID:3107-1754600400-1754609400@samuelbecketts.com
SUMMARY:Spike Burton
DESCRIPTION:Live music is 9pm until Late!
URL:https://samuelbecketts.com/event/spike-burton-31/
CATEGORIES:Music & Events
END:VEVENT
BEGIN:VEVENT
DTSTART;TZID=America/New_York:20250808T210000
DTEND;TZID=America/New_York:20250808T233000
DTSTAMP:20260424T152338
CREATED:20250801T203807Z
LAST-MODIFIED:20250801T203807Z
UID:3109-1754686800-1754695800@samuelbecketts.com
SUMMARY:Eddie Pasa
DESCRIPTION:Live music is 9pm until Late!
URL:https://samuelbecketts.com/event/eddie-pasa-25/
CATEGORIES:Music & Events
END:VEVENT
BEGIN:VEVENT
DTSTART;TZID=America/New_York:20250809T210000
DTEND;TZID=America/New_York:20250809T233000
DTSTAMP:20260424T152338
CREATED:20250801T203849Z
LAST-MODIFIED:20250801T203849Z
UID:3111-1754773200-1754782200@samuelbecketts.com
SUMMARY:Yasmin
DESCRIPTION:Live music is 9pm until Late!
URL:https://samuelbecketts.com/event/yasmin/
CATEGORIES:Music & Events
END:VEVENT
BEGIN:VEVENT
DTSTART;TZID=America/New_York:20250814T190000
DTEND;TZID=America/New_York:20250814T220000
DTSTAMP:20260424T152338
CREATED:20250717T235346Z
LAST-MODIFIED:20250718T000612Z
UID:3093-1755198000-1755208800@samuelbecketts.com
SUMMARY:Whiskey & Cigar Night
DESCRIPTION:Whiskey & Cigar Night📅 Thursday\, August 14th🕖 7:00 PM💵 $100 per person \nSign up by emailing info@samuelbecketts.com or by calling 703-379-0122 \nJoin us for an unforgettable evening of refined tastes and relaxed sophistication at Whiskey & Cigar Night! Enjoy curated pairings of premium Japanese whiskeys and hand-selected cigars in the company of fellow aficionados. \n🎟️ Ticket Includes: \n\n\nExpert-led tasting with a Cigar Connoisseur\, Mechelle \n\n\nA Welcome Cocktail upon arrival \n\n\nSwag Bag full of premium goodies \n\n\nTastings of exquisite Japanese whiskeys: Hibiki\, Suntory World\, and Yamazaki 12yr \n\n\nThis exclusive event is hosted in collaboration with Moments With Mechelle — home of Cigar Connoisseur Mechelle\, known for her expertise in cigar culture\, luxury lifestyle events\, and creating elevated experiences for cigar lovers of all levels. \nPerfect for seasoned enthusiasts or those looking to explore a new passion — reserve your spot now and savor an evening of smooth smokes and fine pours! \nLimited seating available. Must be 21+ to attend.
URL:https://samuelbecketts.com/event/whiskey-cigar-night-2/
CATEGORIES:Music & Events
END:VEVENT
BEGIN:VEVENT
DTSTART;TZID=America/New_York:20250814T210000
DTEND;TZID=America/New_York:20250814T233000
DTSTAMP:20260424T152338
CREATED:20250801T203922Z
LAST-MODIFIED:20250801T203922Z
UID:3113-1755205200-1755214200@samuelbecketts.com
SUMMARY:Lenny Burridge
DESCRIPTION:Live music is 9pm until Late!
URL:https://samuelbecketts.com/event/lenny-burridge-15/
CATEGORIES:Music & Events
END:VEVENT
BEGIN:VEVENT
DTSTART;TZID=America/New_York:20250815T210000
DTEND;TZID=America/New_York:20250815T233000
DTSTAMP:20260424T152338
CREATED:20250801T204012Z
LAST-MODIFIED:20250801T204012Z
UID:3115-1755291600-1755300600@samuelbecketts.com
SUMMARY:Lil' Rob
DESCRIPTION:Live music is 9pm until Late!
URL:https://samuelbecketts.com/event/lil-rob-2/
CATEGORIES:Music & Events
END:VEVENT
BEGIN:VEVENT
DTSTART;TZID=America/New_York:20250816T210000
DTEND;TZID=America/New_York:20250816T233000
DTSTAMP:20260424T152338
CREATED:20250801T204049Z
LAST-MODIFIED:20250801T204049Z
UID:3117-1755378000-1755387000@samuelbecketts.com
SUMMARY:Rocky Guttman
DESCRIPTION:Live music is 9pm until Late!
URL:https://samuelbecketts.com/event/rocky-guttman-5/
CATEGORIES:Music & Events
END:VEVENT
BEGIN:VEVENT
DTSTART;TZID=America/New_York:20250821T210000
DTEND;TZID=America/New_York:20250821T233000
DTSTAMP:20260424T152338
CREATED:20250801T204139Z
LAST-MODIFIED:20250801T204139Z
UID:3119-1755810000-1755819000@samuelbecketts.com
SUMMARY:Lenny Burridge
DESCRIPTION:Live music is 9pm until Late!
URL:https://samuelbecketts.com/event/lenny-burridge-16/
CATEGORIES:Music & Events
END:VEVENT
BEGIN:VEVENT
DTSTART;TZID=America/New_York:20250822T210000
DTEND;TZID=America/New_York:20250822T233000
DTSTAMP:20260424T152338
CREATED:20250801T204220Z
LAST-MODIFIED:20250801T204220Z
UID:3121-1755896400-1755905400@samuelbecketts.com
SUMMARY:Spike Burton
DESCRIPTION:Live music is 9pm until Late!
URL:https://samuelbecketts.com/event/spike-burton-32/
CATEGORIES:Music & Events
END:VEVENT
BEGIN:VEVENT
DTSTART;TZID=America/New_York:20250823T210000
DTEND;TZID=America/New_York:20250823T233000
DTSTAMP:20260424T152338
CREATED:20250801T204258Z
LAST-MODIFIED:20250801T204258Z
UID:3123-1755982800-1755991800@samuelbecketts.com
SUMMARY:Jon Gonzalez
DESCRIPTION:Live music is 9pm until Late!
URL:https://samuelbecketts.com/event/jon-gonzalez-5/
CATEGORIES:Music & Events
END:VEVENT
BEGIN:VEVENT
DTSTART;TZID=America/New_York:20250828T210000
DTEND;TZID=America/New_York:20250828T233000
DTSTAMP:20260424T152338
CREATED:20250801T204341Z
LAST-MODIFIED:20250801T204341Z
UID:3125-1756414800-1756423800@samuelbecketts.com
SUMMARY:Wayne Snow
DESCRIPTION:Live music is 9pm until Late!
URL:https://samuelbecketts.com/event/wayne-snow/
CATEGORIES:Music & Events
END:VEVENT
BEGIN:VEVENT
DTSTART;TZID=America/New_York:20250829T210000
DTEND;TZID=America/New_York:20250829T233000
DTSTAMP:20260424T152338
CREATED:20250801T204422Z
LAST-MODIFIED:20250801T204422Z
UID:3127-1756501200-1756510200@samuelbecketts.com
SUMMARY:Jon Cresswell
DESCRIPTION:Live music is 9pm until Late!
URL:https://samuelbecketts.com/event/jon-cresswell-12/
CATEGORIES:Music & Events
END:VEVENT
BEGIN:VEVENT
DTSTART;TZID=America/New_York:20250830T210000
DTEND;TZID=America/New_York:20250830T233000
DTSTAMP:20260424T152338
CREATED:20250801T204505Z
LAST-MODIFIED:20250801T204505Z
UID:3129-1756587600-1756596600@samuelbecketts.com
SUMMARY:Steve Bray
DESCRIPTION:Live music is 9pm until Late!
URL:https://samuelbecketts.com/event/steve-bray-24/
CATEGORIES:Music & Events
END:VEVENT
BEGIN:VEVENT
DTSTART;TZID=America/New_York:20250831T120000
DTEND;TZID=America/New_York:20250831T150000
DTSTAMP:20260424T152338
CREATED:20250801T205322Z
LAST-MODIFIED:20250801T205322Z
UID:3131-1756641600-1756652400@samuelbecketts.com
SUMMARY:Trad Session
DESCRIPTION:Live music from noon until 3PM!
URL:https://samuelbecketts.com/event/trad-session-9/
CATEGORIES:Music & Events
END:VEVENT
END:VCALENDAR