BEGIN:VCALENDAR
VERSION:2.0
PRODID:-//Samuel Beckett&#039;s Irish Gastro Pub - ECPv6.15.20//NONSGML v1.0//EN
CALSCALE:GREGORIAN
METHOD:PUBLISH
X-ORIGINAL-URL:https://samuelbecketts.com
X-WR-CALDESC:Events for Samuel Beckett&#039;s Irish Gastro Pub
REFRESH-INTERVAL;VALUE=DURATION:PT1H
X-Robots-Tag:noindex
X-PUBLISHED-TTL:PT1H
BEGIN:VTIMEZONE
TZID:America/New_York
BEGIN:DAYLIGHT
TZOFFSETFROM:-0500
TZOFFSETTO:-0400
TZNAME:EDT
DTSTART:20240310T070000
END:DAYLIGHT
BEGIN:STANDARD
TZOFFSETFROM:-0400
TZOFFSETTO:-0500
TZNAME:EST
DTSTART:20241103T060000
END:STANDARD
BEGIN:DAYLIGHT
TZOFFSETFROM:-0500
TZOFFSETTO:-0400
TZNAME:EDT
DTSTART:20250309T070000
END:DAYLIGHT
BEGIN:STANDARD
TZOFFSETFROM:-0400
TZOFFSETTO:-0500
TZNAME:EST
DTSTART:20251102T060000
END:STANDARD
BEGIN:DAYLIGHT
TZOFFSETFROM:-0500
TZOFFSETTO:-0400
TZNAME:EDT
DTSTART:20260308T070000
END:DAYLIGHT
BEGIN:STANDARD
TZOFFSETFROM:-0400
TZOFFSETTO:-0500
TZNAME:EST
DTSTART:20261101T060000
END:STANDARD
END:VTIMEZONE
BEGIN:VEVENT
DTSTART;TZID=America/New_York:20250703T200000
DTEND;TZID=America/New_York:20250703T233000
DTSTAMP:20260424T172207
CREATED:20250704T004135Z
LAST-MODIFIED:20250704T004135Z
UID:3041-1751572800-1751585400@samuelbecketts.com
SUMMARY:Matt Burridge
DESCRIPTION:
URL:https://samuelbecketts.com/event/matt-burridge-5/
END:VEVENT
BEGIN:VEVENT
DTSTART;TZID=America/New_York:20250704T200000
DTEND;TZID=America/New_York:20250704T233000
DTSTAMP:20260424T172207
CREATED:20250704T004251Z
LAST-MODIFIED:20250704T004251Z
UID:3043-1751659200-1751671800@samuelbecketts.com
SUMMARY:Lil Rob
DESCRIPTION:
URL:https://samuelbecketts.com/event/lil-rob/
END:VEVENT
BEGIN:VEVENT
DTSTART;TZID=America/New_York:20250705T200000
DTEND;TZID=America/New_York:20250705T233000
DTSTAMP:20260424T172207
CREATED:20250704T004343Z
LAST-MODIFIED:20250704T004343Z
UID:3045-1751745600-1751758200@samuelbecketts.com
SUMMARY:Kiran and Yasmin
DESCRIPTION:
URL:https://samuelbecketts.com/event/kiran-and-yasmin/
END:VEVENT
BEGIN:VEVENT
DTSTART;TZID=America/New_York:20250710T200000
DTEND;TZID=America/New_York:20250710T230000
DTSTAMP:20260424T172207
CREATED:20250707T191700Z
LAST-MODIFIED:20250707T191700Z
UID:3069-1752177600-1752188400@samuelbecketts.com
SUMMARY:Lenny Burridge
DESCRIPTION:
URL:https://samuelbecketts.com/event/lenny-burridge-13/
CATEGORIES:Music & Events
END:VEVENT
BEGIN:VEVENT
DTSTART;TZID=America/New_York:20250710T200000
DTEND;TZID=America/New_York:20250710T233000
DTSTAMP:20260424T172207
CREATED:20250704T004440Z
LAST-MODIFIED:20250704T004440Z
UID:3047-1752177600-1752190200@samuelbecketts.com
SUMMARY:Lenny Burridge
DESCRIPTION:
URL:https://samuelbecketts.com/event/lenny-burridge-11/
END:VEVENT
BEGIN:VEVENT
DTSTART;TZID=America/New_York:20250711T200000
DTEND;TZID=America/New_York:20250711T230000
DTSTAMP:20260424T172207
CREATED:20250707T191834Z
LAST-MODIFIED:20250707T191834Z
UID:3071-1752264000-1752274800@samuelbecketts.com
SUMMARY:Eddie Pasa
DESCRIPTION:
URL:https://samuelbecketts.com/event/eddie-pasa-24/
CATEGORIES:Music & Events
END:VEVENT
BEGIN:VEVENT
DTSTART;TZID=America/New_York:20250711T200000
DTEND;TZID=America/New_York:20250711T233000
DTSTAMP:20260424T172207
CREATED:20250704T004508Z
LAST-MODIFIED:20250704T004508Z
UID:3049-1752264000-1752276600@samuelbecketts.com
SUMMARY:Eddie Pasa
DESCRIPTION:
URL:https://samuelbecketts.com/event/eddie-pasa-23/
END:VEVENT
BEGIN:VEVENT
DTSTART;TZID=America/New_York:20250712T200000
DTEND;TZID=America/New_York:20250712T230000
DTSTAMP:20260424T172207
CREATED:20250707T191932Z
LAST-MODIFIED:20250707T191932Z
UID:3073-1752350400-1752361200@samuelbecketts.com
SUMMARY:Something Shiny
DESCRIPTION:
URL:https://samuelbecketts.com/event/something-shiny-4/
CATEGORIES:Music & Events
END:VEVENT
BEGIN:VEVENT
DTSTART;TZID=America/New_York:20250712T200000
DTEND;TZID=America/New_York:20250712T233000
DTSTAMP:20260424T172207
CREATED:20250704T004547Z
LAST-MODIFIED:20250704T004547Z
UID:3051-1752350400-1752363000@samuelbecketts.com
SUMMARY:Something Shiny
DESCRIPTION:
URL:https://samuelbecketts.com/event/something-shiny-3/
END:VEVENT
BEGIN:VEVENT
DTSTART;TZID=America/New_York:20250717T200000
DTEND;TZID=America/New_York:20250717T230000
DTSTAMP:20260424T172207
CREATED:20250707T192038Z
LAST-MODIFIED:20250707T192038Z
UID:3075-1752782400-1752793200@samuelbecketts.com
SUMMARY:Jon Gonzalez
DESCRIPTION:
URL:https://samuelbecketts.com/event/jon-gonzalez-4/
CATEGORIES:Music & Events
END:VEVENT
BEGIN:VEVENT
DTSTART;TZID=America/New_York:20250717T200000
DTEND;TZID=America/New_York:20250717T233000
DTSTAMP:20260424T172207
CREATED:20250704T004647Z
LAST-MODIFIED:20250704T004647Z
UID:3053-1752782400-1752795000@samuelbecketts.com
SUMMARY:Jon Gonzalez
DESCRIPTION:
URL:https://samuelbecketts.com/event/jon-gonzalez-3/
END:VEVENT
BEGIN:VEVENT
DTSTART;TZID=America/New_York:20250718T200000
DTEND;TZID=America/New_York:20250718T230000
DTSTAMP:20260424T172207
CREATED:20250707T192106Z
LAST-MODIFIED:20250707T192106Z
UID:3077-1752868800-1752879600@samuelbecketts.com
SUMMARY:Spike Burton
DESCRIPTION:
URL:https://samuelbecketts.com/event/spike-burton-30/
CATEGORIES:Music & Events
END:VEVENT
BEGIN:VEVENT
DTSTART;TZID=America/New_York:20250718T200000
DTEND;TZID=America/New_York:20250718T233000
DTSTAMP:20260424T172207
CREATED:20250704T004731Z
LAST-MODIFIED:20250704T004731Z
UID:3055-1752868800-1752881400@samuelbecketts.com
SUMMARY:Spike Burton
DESCRIPTION:
URL:https://samuelbecketts.com/event/spike-burton-29/
END:VEVENT
BEGIN:VEVENT
DTSTART;TZID=America/New_York:20250719T200000
DTEND;TZID=America/New_York:20250719T230000
DTSTAMP:20260424T172207
CREATED:20250707T192140Z
LAST-MODIFIED:20250707T192140Z
UID:3079-1752955200-1752966000@samuelbecketts.com
SUMMARY:Rocky Guttmann
DESCRIPTION:
URL:https://samuelbecketts.com/event/rocky-guttmann-18/
CATEGORIES:Music & Events
END:VEVENT
BEGIN:VEVENT
DTSTART;TZID=America/New_York:20250719T200000
DTEND;TZID=America/New_York:20250719T233000
DTSTAMP:20260424T172207
CREATED:20250704T004806Z
LAST-MODIFIED:20250704T004806Z
UID:3057-1752955200-1752967800@samuelbecketts.com
SUMMARY:Rocky Guttman
DESCRIPTION:
URL:https://samuelbecketts.com/event/rocky-guttman-4/
END:VEVENT
BEGIN:VEVENT
DTSTART;TZID=America/New_York:20250724T200000
DTEND;TZID=America/New_York:20250724T230000
DTSTAMP:20260424T172207
CREATED:20250707T192217Z
LAST-MODIFIED:20250707T192217Z
UID:3081-1753387200-1753398000@samuelbecketts.com
SUMMARY:Mike Leverone
DESCRIPTION:
URL:https://samuelbecketts.com/event/mike-leverone-23/
CATEGORIES:Music & Events
END:VEVENT
BEGIN:VEVENT
DTSTART;TZID=America/New_York:20250724T200000
DTEND;TZID=America/New_York:20250724T233000
DTSTAMP:20260424T172207
CREATED:20250704T004854Z
LAST-MODIFIED:20250704T004854Z
UID:3059-1753387200-1753399800@samuelbecketts.com
SUMMARY:Mike Leverone
DESCRIPTION:
URL:https://samuelbecketts.com/event/mike-leverone-22/
END:VEVENT
BEGIN:VEVENT
DTSTART;TZID=America/New_York:20250725T200000
DTEND;TZID=America/New_York:20250725T230000
DTSTAMP:20260424T172207
CREATED:20250707T192248Z
LAST-MODIFIED:20250707T192248Z
UID:3083-1753473600-1753484400@samuelbecketts.com
SUMMARY:Steve Bray
DESCRIPTION:
URL:https://samuelbecketts.com/event/steve-bray-23/
CATEGORIES:Music & Events
END:VEVENT
BEGIN:VEVENT
DTSTART;TZID=America/New_York:20250725T200000
DTEND;TZID=America/New_York:20250725T233000
DTSTAMP:20260424T172207
CREATED:20250704T004942Z
LAST-MODIFIED:20250704T004942Z
UID:3061-1753473600-1753486200@samuelbecketts.com
SUMMARY:Steve Bray
DESCRIPTION:
URL:https://samuelbecketts.com/event/steve-bray-22/
END:VEVENT
BEGIN:VEVENT
DTSTART;TZID=America/New_York:20250726T200000
DTEND;TZID=America/New_York:20250726T230000
DTSTAMP:20260424T172207
CREATED:20250707T192332Z
LAST-MODIFIED:20250707T192332Z
UID:3085-1753560000-1753570800@samuelbecketts.com
SUMMARY:Jon Cresswell
DESCRIPTION:
URL:https://samuelbecketts.com/event/jon-cresswell-11/
CATEGORIES:Music & Events
END:VEVENT
BEGIN:VEVENT
DTSTART;TZID=America/New_York:20250726T200000
DTEND;TZID=America/New_York:20250726T233000
DTSTAMP:20260424T172207
CREATED:20250704T005015Z
LAST-MODIFIED:20250704T005015Z
UID:3063-1753560000-1753572600@samuelbecketts.com
SUMMARY:Jon Cresswell
DESCRIPTION:
URL:https://samuelbecketts.com/event/jon-cresswell-10/
END:VEVENT
BEGIN:VEVENT
DTSTART;TZID=America/New_York:20250731T200000
DTEND;TZID=America/New_York:20250731T230000
DTSTAMP:20260424T172207
CREATED:20250707T192413Z
LAST-MODIFIED:20250707T192413Z
UID:3087-1753992000-1754002800@samuelbecketts.com
SUMMARY:Lenny Burridge
DESCRIPTION:
URL:https://samuelbecketts.com/event/lenny-burridge-14/
CATEGORIES:Music & Events
END:VEVENT
BEGIN:VEVENT
DTSTART;TZID=America/New_York:20250731T200000
DTEND;TZID=America/New_York:20250731T233000
DTSTAMP:20260424T172207
CREATED:20250704T005046Z
LAST-MODIFIED:20250704T005046Z
UID:3065-1753992000-1754004600@samuelbecketts.com
SUMMARY:Lenny Burridge
DESCRIPTION:
URL:https://samuelbecketts.com/event/lenny-burridge-12/
END:VEVENT
END:VCALENDAR