BEGIN:VCALENDAR
VERSION:2.0
PRODID:-//Samuel Beckett&#039;s Irish Gastro Pub - ECPv6.15.20//NONSGML v1.0//EN
CALSCALE:GREGORIAN
METHOD:PUBLISH
X-WR-CALNAME:Samuel Beckett&#039;s Irish Gastro Pub
X-ORIGINAL-URL:https://samuelbecketts.com
X-WR-CALDESC:Events for Samuel Beckett&#039;s Irish Gastro Pub
REFRESH-INTERVAL;VALUE=DURATION:PT1H
X-Robots-Tag:noindex
X-PUBLISHED-TTL:PT1H
BEGIN:VTIMEZONE
TZID:America/New_York
BEGIN:DAYLIGHT
TZOFFSETFROM:-0500
TZOFFSETTO:-0400
TZNAME:EDT
DTSTART:20240310T070000
END:DAYLIGHT
BEGIN:STANDARD
TZOFFSETFROM:-0400
TZOFFSETTO:-0500
TZNAME:EST
DTSTART:20241103T060000
END:STANDARD
BEGIN:DAYLIGHT
TZOFFSETFROM:-0500
TZOFFSETTO:-0400
TZNAME:EDT
DTSTART:20250309T070000
END:DAYLIGHT
BEGIN:STANDARD
TZOFFSETFROM:-0400
TZOFFSETTO:-0500
TZNAME:EST
DTSTART:20251102T060000
END:STANDARD
BEGIN:DAYLIGHT
TZOFFSETFROM:-0500
TZOFFSETTO:-0400
TZNAME:EDT
DTSTART:20260308T070000
END:DAYLIGHT
BEGIN:STANDARD
TZOFFSETFROM:-0400
TZOFFSETTO:-0500
TZNAME:EST
DTSTART:20261101T060000
END:STANDARD
END:VTIMEZONE
BEGIN:VEVENT
DTSTART;TZID=America/New_York:20250401T190000
DTEND;TZID=America/New_York:20250401T220000
DTSTAMP:20260424T221154
CREATED:20250403T154723Z
LAST-MODIFIED:20250403T154723Z
UID:2912-1743534000-1743544800@samuelbecketts.com
SUMMARY:Trivia Tuesday
DESCRIPTION:Trivia by Trivia Kings\, starts at 7pm
URL:https://samuelbecketts.com/event/trivia-tuesday-13/
CATEGORIES:Music & Events
END:VEVENT
BEGIN:VEVENT
DTSTART;TZID=America/New_York:20250402T190000
DTEND;TZID=America/New_York:20250402T220000
DTSTAMP:20260424T221154
CREATED:20250403T154653Z
LAST-MODIFIED:20250403T154653Z
UID:2910-1743620400-1743631200@samuelbecketts.com
SUMMARY:Music Bingo
DESCRIPTION:Trivia with Stefanie\, starts at 7pm
URL:https://samuelbecketts.com/event/music-bingo-14/
CATEGORIES:Music & Events
END:VEVENT
BEGIN:VEVENT
DTSTART;TZID=America/New_York:20250403T210000
DTEND;TZID=America/New_York:20250403T233000
DTSTAMP:20260424T221154
CREATED:20250403T154101Z
LAST-MODIFIED:20250403T154145Z
UID:2884-1743714000-1743723000@samuelbecketts.com
SUMMARY:Jon G.
DESCRIPTION:Live music starting at 9pm until late!
URL:https://samuelbecketts.com/event/jon-g-6/
CATEGORIES:Music & Events
END:VEVENT
BEGIN:VEVENT
DTSTART;TZID=America/New_York:20250404T213000
DTEND;TZID=America/New_York:20250404T233000
DTSTAMP:20260424T221154
CREATED:20250403T154132Z
LAST-MODIFIED:20250403T154132Z
UID:2886-1743802200-1743809400@samuelbecketts.com
SUMMARY:Spike Burton
DESCRIPTION:Live music starting at 9:30pm until late!
URL:https://samuelbecketts.com/event/spike-burton-23/
CATEGORIES:Music & Events
END:VEVENT
BEGIN:VEVENT
DTSTART;TZID=America/New_York:20250405T213000
DTEND;TZID=America/New_York:20250405T233000
DTSTAMP:20260424T221154
CREATED:20250403T154208Z
LAST-MODIFIED:20250403T154208Z
UID:2888-1743888600-1743895800@samuelbecketts.com
SUMMARY:Eddie Pasa
DESCRIPTION:Live music starting at 9:30pm until late!
URL:https://samuelbecketts.com/event/eddie-pasa-20/
CATEGORIES:Music & Events
END:VEVENT
BEGIN:VEVENT
DTSTART;TZID=America/New_York:20250408T190000
DTEND;TZID=America/New_York:20250408T220000
DTSTAMP:20260424T221154
CREATED:20250404T211408Z
LAST-MODIFIED:20250404T211408Z
UID:2917-1744138800-1744149600@samuelbecketts.com
SUMMARY:Trivia Tuesday
DESCRIPTION:Trivia by Trivia Kings\, starts at 7pm
URL:https://samuelbecketts.com/event/trivia-tuesday-14/
CATEGORIES:Music & Events
END:VEVENT
BEGIN:VEVENT
DTSTART;TZID=America/New_York:20250409T190000
DTEND;TZID=America/New_York:20250409T220000
DTSTAMP:20260424T221154
CREATED:20250420T202650Z
LAST-MODIFIED:20250420T202650Z
UID:2938-1744225200-1744236000@samuelbecketts.com
SUMMARY:Music Bingo
DESCRIPTION:Trivia with Stefanie\, starts at 7pm
URL:https://samuelbecketts.com/event/music-bingo-15/
CATEGORIES:Music & Events
END:VEVENT
BEGIN:VEVENT
DTSTART;TZID=America/New_York:20250410T210000
DTEND;TZID=America/New_York:20250410T233000
DTSTAMP:20260424T221154
CREATED:20250403T154231Z
LAST-MODIFIED:20250403T154231Z
UID:2890-1744318800-1744327800@samuelbecketts.com
SUMMARY:Lenny Burridge
DESCRIPTION:Live music starting at 9pm until late!
URL:https://samuelbecketts.com/event/lenny-burridge-5/
CATEGORIES:Music & Events
END:VEVENT
BEGIN:VEVENT
DTSTART;TZID=America/New_York:20250411T213000
DTEND;TZID=America/New_York:20250411T233000
DTSTAMP:20260424T221154
CREATED:20250403T154254Z
LAST-MODIFIED:20250403T154254Z
UID:2892-1744407000-1744414200@samuelbecketts.com
SUMMARY:Something Shiny
DESCRIPTION:Live music starting at 9:30pm until late!
URL:https://samuelbecketts.com/event/something-shiny-2/
CATEGORIES:Music & Events
END:VEVENT
BEGIN:VEVENT
DTSTART;TZID=America/New_York:20250412T213000
DTEND;TZID=America/New_York:20250412T233000
DTSTAMP:20260424T221154
CREATED:20250403T154313Z
LAST-MODIFIED:20250403T154313Z
UID:2894-1744493400-1744500600@samuelbecketts.com
SUMMARY:Rocky Guttmann
DESCRIPTION:Live music starting at 9:30pm until late!
URL:https://samuelbecketts.com/event/rocky-guttmann-15/
CATEGORIES:Music & Events
END:VEVENT
BEGIN:VEVENT
DTSTART;TZID=America/New_York:20250415T190000
DTEND;TZID=America/New_York:20250415T220000
DTSTAMP:20260424T221154
CREATED:20250404T211428Z
LAST-MODIFIED:20250404T211428Z
UID:2919-1744743600-1744754400@samuelbecketts.com
SUMMARY:Trivia Tuesday
DESCRIPTION:Trivia by Trivia Kings\, starts at 7pm
URL:https://samuelbecketts.com/event/trivia-tuesday-15/
CATEGORIES:Music & Events
END:VEVENT
BEGIN:VEVENT
DTSTART;TZID=America/New_York:20250416T190000
DTEND;TZID=America/New_York:20250416T213000
DTSTAMP:20260424T221154
CREATED:20250420T202708Z
LAST-MODIFIED:20250420T202817Z
UID:2940-1744830000-1744839000@samuelbecketts.com
SUMMARY:Music Bingo
DESCRIPTION:Trivia with Stefanie\, starts at 7pm
URL:https://samuelbecketts.com/event/music-bingo-16/
CATEGORIES:Music & Events
END:VEVENT
BEGIN:VEVENT
DTSTART;TZID=America/New_York:20250417T210000
DTEND;TZID=America/New_York:20250417T233000
DTSTAMP:20260424T221154
CREATED:20250403T154347Z
LAST-MODIFIED:20250403T154347Z
UID:2896-1744923600-1744932600@samuelbecketts.com
SUMMARY:Lenny Burridge
DESCRIPTION:Live music starting at 9pm until late!
URL:https://samuelbecketts.com/event/lenny-burridge-6/
CATEGORIES:Music & Events
END:VEVENT
BEGIN:VEVENT
DTSTART;TZID=America/New_York:20250418T213000
DTEND;TZID=America/New_York:20250418T233000
DTSTAMP:20260424T221154
CREATED:20250403T154412Z
LAST-MODIFIED:20250403T154412Z
UID:2898-1745011800-1745019000@samuelbecketts.com
SUMMARY:Jon Cresswell
DESCRIPTION:Live music starting at 9:30pm until late!
URL:https://samuelbecketts.com/event/jon-cresswell-7/
CATEGORIES:Music & Events
END:VEVENT
BEGIN:VEVENT
DTSTART;TZID=America/New_York:20250419T213000
DTEND;TZID=America/New_York:20250419T233000
DTSTAMP:20260424T221154
CREATED:20250403T154432Z
LAST-MODIFIED:20250403T154432Z
UID:2900-1745098200-1745105400@samuelbecketts.com
SUMMARY:Brandon Kennedy
DESCRIPTION:Live music starting at 9:30pm until late!
URL:https://samuelbecketts.com/event/brandon-kennedy-2/
CATEGORIES:Music & Events
END:VEVENT
BEGIN:VEVENT
DTSTART;TZID=America/New_York:20250422T190000
DTEND;TZID=America/New_York:20250422T220000
DTSTAMP:20260424T221154
CREATED:20250404T211447Z
LAST-MODIFIED:20250404T211447Z
UID:2921-1745348400-1745359200@samuelbecketts.com
SUMMARY:Trivia Tuesday
DESCRIPTION:Trivia by Trivia Kings\, starts at 7pm
URL:https://samuelbecketts.com/event/trivia-tuesday-16/
CATEGORIES:Music & Events
END:VEVENT
BEGIN:VEVENT
DTSTART;TZID=America/New_York:20250423T190000
DTEND;TZID=America/New_York:20250423T220000
DTSTAMP:20260424T221154
CREATED:20250420T202731Z
LAST-MODIFIED:20250420T202801Z
UID:2942-1745434800-1745445600@samuelbecketts.com
SUMMARY:Music Bingo
DESCRIPTION:Trivia with Stefanie\, starts at 7pm
URL:https://samuelbecketts.com/event/music-bingo-17/
CATEGORIES:Music & Events
END:VEVENT
BEGIN:VEVENT
DTSTART;TZID=America/New_York:20250424T210000
DTEND;TZID=America/New_York:20250424T233000
DTSTAMP:20260424T221154
CREATED:20250403T154458Z
LAST-MODIFIED:20250403T154458Z
UID:2902-1745528400-1745537400@samuelbecketts.com
SUMMARY:Spike Burton
DESCRIPTION:Live music starting at 9pm until late!
URL:https://samuelbecketts.com/event/spike-burton-24/
CATEGORIES:Music & Events
END:VEVENT
BEGIN:VEVENT
DTSTART;TZID=America/New_York:20250425T213000
DTEND;TZID=America/New_York:20250425T233000
DTSTAMP:20260424T221154
CREATED:20250403T154518Z
LAST-MODIFIED:20250403T154518Z
UID:2904-1745616600-1745623800@samuelbecketts.com
SUMMARY:Steve Bray
DESCRIPTION:Live music starting at 9:30pm until late!
URL:https://samuelbecketts.com/event/steve-bray-19/
CATEGORIES:Music & Events
END:VEVENT
BEGIN:VEVENT
DTSTART;TZID=America/New_York:20250426T213000
DTEND;TZID=America/New_York:20250426T233000
DTSTAMP:20260424T221154
CREATED:20250403T154537Z
LAST-MODIFIED:20250403T154537Z
UID:2906-1745703000-1745710200@samuelbecketts.com
SUMMARY:Mike Leverone
DESCRIPTION:Live music starting at 9:30pm until late!
URL:https://samuelbecketts.com/event/mike-leverone-19/
CATEGORIES:Music & Events
END:VEVENT
BEGIN:VEVENT
DTSTART;TZID=America/New_York:20250427T130000
DTEND;TZID=America/New_York:20250427T150000
DTSTAMP:20260424T221154
CREATED:20250403T154559Z
LAST-MODIFIED:20250403T154559Z
UID:2908-1745758800-1745766000@samuelbecketts.com
SUMMARY:Trad Session
DESCRIPTION:
URL:https://samuelbecketts.com/event/trad-session-7/
CATEGORIES:Music & Events
END:VEVENT
BEGIN:VEVENT
DTSTART;TZID=America/New_York:20250429T190000
DTEND;TZID=America/New_York:20250429T220000
DTSTAMP:20260424T221154
CREATED:20250404T211503Z
LAST-MODIFIED:20250404T211503Z
UID:2923-1745953200-1745964000@samuelbecketts.com
SUMMARY:Trivia Tuesday
DESCRIPTION:Trivia by Trivia Kings\, starts at 7pm
URL:https://samuelbecketts.com/event/trivia-tuesday-17/
CATEGORIES:Music & Events
END:VEVENT
BEGIN:VEVENT
DTSTART;TZID=America/New_York:20250430T190000
DTEND;TZID=America/New_York:20250430T220000
DTSTAMP:20260424T221154
CREATED:20250420T202923Z
LAST-MODIFIED:20250420T202923Z
UID:2944-1746039600-1746050400@samuelbecketts.com
SUMMARY:Music Bingo
DESCRIPTION:Trivia with Stefanie\, starts at 7pm
URL:https://samuelbecketts.com/event/music-bingo-18/
CATEGORIES:Music & Events
END:VEVENT
END:VCALENDAR