BEGIN:VCALENDAR
VERSION:2.0
PRODID:-//Samuel Beckett&#039;s Irish Gastro Pub - ECPv6.15.20//NONSGML v1.0//EN
CALSCALE:GREGORIAN
METHOD:PUBLISH
X-ORIGINAL-URL:https://samuelbecketts.com
X-WR-CALDESC:Events for Samuel Beckett&#039;s Irish Gastro Pub
REFRESH-INTERVAL;VALUE=DURATION:PT1H
X-Robots-Tag:noindex
X-PUBLISHED-TTL:PT1H
BEGIN:VTIMEZONE
TZID:UTC
BEGIN:STANDARD
TZOFFSETFROM:+0000
TZOFFSETTO:+0000
TZNAME:UTC
DTSTART:20240101T000000
END:STANDARD
END:VTIMEZONE
BEGIN:VTIMEZONE
TZID:America/New_York
BEGIN:DAYLIGHT
TZOFFSETFROM:-0500
TZOFFSETTO:-0400
TZNAME:EDT
DTSTART:20240310T070000
END:DAYLIGHT
BEGIN:STANDARD
TZOFFSETFROM:-0400
TZOFFSETTO:-0500
TZNAME:EST
DTSTART:20241103T060000
END:STANDARD
BEGIN:DAYLIGHT
TZOFFSETFROM:-0500
TZOFFSETTO:-0400
TZNAME:EDT
DTSTART:20250309T070000
END:DAYLIGHT
BEGIN:STANDARD
TZOFFSETFROM:-0400
TZOFFSETTO:-0500
TZNAME:EST
DTSTART:20251102T060000
END:STANDARD
BEGIN:DAYLIGHT
TZOFFSETFROM:-0500
TZOFFSETTO:-0400
TZNAME:EDT
DTSTART:20260308T070000
END:DAYLIGHT
BEGIN:STANDARD
TZOFFSETFROM:-0400
TZOFFSETTO:-0500
TZNAME:EST
DTSTART:20261101T060000
END:STANDARD
END:VTIMEZONE
BEGIN:VEVENT
DTSTART;TZID=UTC:20250301T213000
DTEND;TZID=UTC:20250301T233000
DTSTAMP:20260425T001057
CREATED:20250303T214954Z
LAST-MODIFIED:20250303T214954Z
UID:2843-1740864600-1740871800@samuelbecketts.com
SUMMARY:Jon G.
DESCRIPTION:Live music from 9:30pm until late!
URL:https://samuelbecketts.com/event/jon-g-5/
CATEGORIES:Music & Events
END:VEVENT
BEGIN:VEVENT
DTSTART;TZID=America/New_York:20250304T190000
DTEND;TZID=America/New_York:20250304T220000
DTSTAMP:20260425T001057
CREATED:20250224T215843Z
LAST-MODIFIED:20250224T215843Z
UID:2820-1741114800-1741125600@samuelbecketts.com
SUMMARY:Trivia Tuesday
DESCRIPTION:Trivia by Trivia Kings\, starts at 7pm
URL:https://samuelbecketts.com/event/trivia-tuesday-9/
CATEGORIES:Music & Events
END:VEVENT
BEGIN:VEVENT
DTSTART;TZID=America/New_York:20250305T190000
DTEND;TZID=America/New_York:20250305T220000
DTSTAMP:20260425T001057
CREATED:20250224T220045Z
LAST-MODIFIED:20250224T220045Z
UID:2828-1741201200-1741212000@samuelbecketts.com
SUMMARY:Music Bingo
DESCRIPTION:Trivia with Stefanie\, starts at 7pm
URL:https://samuelbecketts.com/event/music-bingo-10/
CATEGORIES:Music & Events
END:VEVENT
BEGIN:VEVENT
DTSTART;TZID=America/New_York:20250306T180000
DTEND;TZID=America/New_York:20250306T220000
DTSTAMP:20260425T001057
CREATED:20250125T180212Z
LAST-MODIFIED:20250125T180212Z
UID:2776-1741284000-1741298400@samuelbecketts.com
SUMMARY:Teeling Whiskey Dinner
DESCRIPTION:More info coming soon
URL:https://samuelbecketts.com/event/teeling-whiskey-dinner/
CATEGORIES:Music & Events
END:VEVENT
BEGIN:VEVENT
DTSTART;TZID=UTC:20250306T210000
DTEND;TZID=UTC:20250306T230000
DTSTAMP:20260425T001057
CREATED:20250303T215033Z
LAST-MODIFIED:20250303T215033Z
UID:2845-1741294800-1741302000@samuelbecketts.com
SUMMARY:Spike Burton
DESCRIPTION:Live Music from 9pm until Late!
URL:https://samuelbecketts.com/event/spike-burton-21/
CATEGORIES:Music & Events
END:VEVENT
BEGIN:VEVENT
DTSTART;TZID=UTC:20250307T213000
DTEND;TZID=UTC:20250307T233000
DTSTAMP:20260425T001057
CREATED:20250303T215100Z
LAST-MODIFIED:20250303T215100Z
UID:2847-1741383000-1741390200@samuelbecketts.com
SUMMARY:Jon Cresswell
DESCRIPTION:Live Music from 9:30pm until Late!
URL:https://samuelbecketts.com/event/jon-cresswell-6/
CATEGORIES:Music & Events
END:VEVENT
BEGIN:VEVENT
DTSTART;TZID=America/New_York:20250308T093000
DTEND;TZID=America/New_York:20250308T113000
DTSTAMP:20260425T001057
CREATED:20241227T232529Z
LAST-MODIFIED:20250125T203957Z
UID:2694-1741426200-1741433400@samuelbecketts.com
SUMMARY:Six Nations: Ireland v France
DESCRIPTION:
URL:https://samuelbecketts.com/event/six-nations-ireland-v-france/
CATEGORIES:Music & Events,Six Nations & Sports
END:VEVENT
BEGIN:VEVENT
DTSTART;TZID=America/New_York:20250308T113000
DTEND;TZID=America/New_York:20250308T133000
DTSTAMP:20260425T001057
CREATED:20241227T232558Z
LAST-MODIFIED:20250125T204007Z
UID:2696-1741433400-1741440600@samuelbecketts.com
SUMMARY:Six Nations: Scotland v Wales
DESCRIPTION:
URL:https://samuelbecketts.com/event/six-nations-scotland-v-wales/
CATEGORIES:Music & Events,Six Nations & Sports
END:VEVENT
BEGIN:VEVENT
DTSTART;TZID=UTC:20250308T213000
DTEND;TZID=UTC:20250308T233000
DTSTAMP:20260425T001057
CREATED:20250303T215120Z
LAST-MODIFIED:20250303T215120Z
UID:2849-1741469400-1741476600@samuelbecketts.com
SUMMARY:David Thong
DESCRIPTION:Live Music from 9:30pm until Late!
URL:https://samuelbecketts.com/event/david-thong-3/
CATEGORIES:Music & Events
END:VEVENT
BEGIN:VEVENT
DTSTART;TZID=America/New_York:20250309T110000
DTEND;TZID=America/New_York:20250309T130000
DTSTAMP:20260425T001057
CREATED:20241227T232635Z
LAST-MODIFIED:20250125T204014Z
UID:2698-1741518000-1741525200@samuelbecketts.com
SUMMARY:Six Nations: England v Italy
DESCRIPTION:
URL:https://samuelbecketts.com/event/six-nations-england-v-italy/
CATEGORIES:Music & Events,Six Nations & Sports
END:VEVENT
BEGIN:VEVENT
DTSTART;TZID=America/New_York:20250311T190000
DTEND;TZID=America/New_York:20250311T220000
DTSTAMP:20260425T001057
CREATED:20250224T215909Z
LAST-MODIFIED:20250224T215909Z
UID:2822-1741719600-1741730400@samuelbecketts.com
SUMMARY:Trivia Tuesday
DESCRIPTION:Trivia by Trivia Kings\, starts at 7pm
URL:https://samuelbecketts.com/event/trivia-tuesday-10/
CATEGORIES:Music & Events
END:VEVENT
BEGIN:VEVENT
DTSTART;TZID=America/New_York:20250312T190000
DTEND;TZID=America/New_York:20250312T220000
DTSTAMP:20260425T001057
CREATED:20250224T220106Z
LAST-MODIFIED:20250224T220106Z
UID:2830-1741806000-1741816800@samuelbecketts.com
SUMMARY:Music Bingo
DESCRIPTION:Trivia with Stefanie\, starts at 7pm
URL:https://samuelbecketts.com/event/music-bingo-11/
CATEGORIES:Music & Events
END:VEVENT
BEGIN:VEVENT
DTSTART;TZID=UTC:20250313T203000
DTEND;TZID=UTC:20250313T233000
DTSTAMP:20260425T001057
CREATED:20250303T215149Z
LAST-MODIFIED:20250303T215149Z
UID:2851-1741897800-1741908600@samuelbecketts.com
SUMMARY:O'McPub Band
DESCRIPTION:Live Music from 8:30pm until Late!
URL:https://samuelbecketts.com/event/omcpub-band-3/
CATEGORIES:Music & Events
END:VEVENT
BEGIN:VEVENT
DTSTART;TZID=UTC:20250314T170000
DTEND;TZID=UTC:20250314T210000
DTSTAMP:20260425T001057
CREATED:20250303T220012Z
LAST-MODIFIED:20250303T220012Z
UID:2875-1741971600-1741986000@samuelbecketts.com
SUMMARY:Guinness Ripple Machine
DESCRIPTION:
URL:https://samuelbecketts.com/event/guinness-ripple-machine/
CATEGORIES:Music & Events
END:VEVENT
BEGIN:VEVENT
DTSTART;TZID=UTC:20250314T213000
DTEND;TZID=UTC:20250314T233000
DTSTAMP:20260425T001057
CREATED:20250303T215210Z
LAST-MODIFIED:20250303T215210Z
UID:2853-1741987800-1741995000@samuelbecketts.com
SUMMARY:Eddie Pasa
DESCRIPTION:Live Music from 9:30pm until Late!
URL:https://samuelbecketts.com/event/eddie-pasa-19/
CATEGORIES:Music & Events
END:VEVENT
BEGIN:VEVENT
DTSTART;TZID=America/New_York:20250315T100000
DTEND;TZID=America/New_York:20250315T120000
DTSTAMP:20260425T001057
CREATED:20241227T232707Z
LAST-MODIFIED:20250125T204021Z
UID:2700-1742032800-1742040000@samuelbecketts.com
SUMMARY:Six Nations: Ireland v Italy
DESCRIPTION:
URL:https://samuelbecketts.com/event/six-nations-ireland-v-italy/
CATEGORIES:Music & Events,Six Nations & Sports
END:VEVENT
BEGIN:VEVENT
DTSTART;TZID=America/New_York:20250315T123000
DTEND;TZID=America/New_York:20250315T143000
DTSTAMP:20260425T001057
CREATED:20241227T232742Z
LAST-MODIFIED:20250125T204251Z
UID:2702-1742041800-1742049000@samuelbecketts.com
SUMMARY:Six Nations: Wales v England
DESCRIPTION:
URL:https://samuelbecketts.com/event/six-nations-wales-v-england/
CATEGORIES:Music & Events,Six Nations & Sports
END:VEVENT
BEGIN:VEVENT
DTSTART;TZID=America/New_York:20250315T160000
DTEND;TZID=America/New_York:20250315T180000
DTSTAMP:20260425T001057
CREATED:20241227T232918Z
LAST-MODIFIED:20250125T204246Z
UID:2704-1742054400-1742061600@samuelbecketts.com
SUMMARY:Six Nations: France v Scotland
DESCRIPTION:
URL:https://samuelbecketts.com/event/six-nations-france-v-scotland/
CATEGORIES:Music & Events,Six Nations & Sports
END:VEVENT
BEGIN:VEVENT
DTSTART;TZID=UTC:20250315T213000
DTEND;TZID=UTC:20250315T233000
DTSTAMP:20260425T001057
CREATED:20250303T215233Z
LAST-MODIFIED:20250303T215233Z
UID:2855-1742074200-1742081400@samuelbecketts.com
SUMMARY:Rocky Guttmann
DESCRIPTION:Live Music from 9:30pm until Late!
URL:https://samuelbecketts.com/event/rocky-guttmann-14/
CATEGORIES:Music & Events
END:VEVENT
BEGIN:VEVENT
DTSTART;TZID=UTC:20250316T203000
DTEND;TZID=UTC:20250316T233000
DTSTAMP:20260425T001057
CREATED:20250303T215438Z
LAST-MODIFIED:20250305T164307Z
UID:2861-1742157000-1742167800@samuelbecketts.com
SUMMARY:Brandon Kennedy
DESCRIPTION:Live Music from 8:30pm until Late!
URL:https://samuelbecketts.com/event/brandon-kennedy/
CATEGORIES:Music & Events
END:VEVENT
BEGIN:VEVENT
DTSTART;VALUE=DATE:20250317
DTEND;VALUE=DATE:20250318
DTSTAMP:20260425T001057
CREATED:20241227T233030Z
LAST-MODIFIED:20241230T154406Z
UID:2706-1742169600-1742255999@samuelbecketts.com
SUMMARY:St. Patrick's Day
DESCRIPTION:
URL:https://samuelbecketts.com/event/st-patricks-day/
CATEGORIES:Music & Events
END:VEVENT
BEGIN:VEVENT
DTSTART;TZID=UTC:20250317T123000
DTEND;TZID=UTC:20250317T150000
DTSTAMP:20260425T001057
CREATED:20250303T220102Z
LAST-MODIFIED:20250303T220102Z
UID:2877-1742214600-1742223600@samuelbecketts.com
SUMMARY:Traditional Irish Music
DESCRIPTION:
URL:https://samuelbecketts.com/event/traditional-irish-music/
CATEGORIES:Music & Events
END:VEVENT
BEGIN:VEVENT
DTSTART;TZID=UTC:20250317T160000
DTEND;TZID=UTC:20250317T190000
DTSTAMP:20260425T001057
CREATED:20250303T215347Z
LAST-MODIFIED:20250303T215347Z
UID:2857-1742227200-1742238000@samuelbecketts.com
SUMMARY:Lenny Burridge Duo
DESCRIPTION:
URL:https://samuelbecketts.com/event/lenny-burridge-duo/
CATEGORIES:Music & Events
END:VEVENT
BEGIN:VEVENT
DTSTART;TZID=UTC:20250317T200000
DTEND;TZID=UTC:20250317T230000
DTSTAMP:20260425T001057
CREATED:20250303T215418Z
LAST-MODIFIED:20250303T215418Z
UID:2859-1742241600-1742252400@samuelbecketts.com
SUMMARY:Spike Burton
DESCRIPTION:
URL:https://samuelbecketts.com/event/spike-burton-22/
CATEGORIES:Music & Events
END:VEVENT
BEGIN:VEVENT
DTSTART;TZID=America/New_York:20250318T190000
DTEND;TZID=America/New_York:20250318T220000
DTSTAMP:20260425T001057
CREATED:20250224T215929Z
LAST-MODIFIED:20250224T215929Z
UID:2824-1742324400-1742335200@samuelbecketts.com
SUMMARY:Trivia Tuesday
DESCRIPTION:Trivia by Trivia Kings\, starts at 7pm
URL:https://samuelbecketts.com/event/trivia-tuesday-11/
CATEGORIES:Music & Events
END:VEVENT
BEGIN:VEVENT
DTSTART;TZID=America/New_York:20250319T190000
DTEND;TZID=America/New_York:20250319T220000
DTSTAMP:20260425T001057
CREATED:20250224T220134Z
LAST-MODIFIED:20250224T220134Z
UID:2832-1742410800-1742421600@samuelbecketts.com
SUMMARY:Music Bingo
DESCRIPTION:Trivia with Stefanie\, starts at 7pm
URL:https://samuelbecketts.com/event/music-bingo-12/
CATEGORIES:Music & Events
END:VEVENT
BEGIN:VEVENT
DTSTART;TZID=UTC:20250320T210000
DTEND;TZID=UTC:20250320T233000
DTSTAMP:20260425T001057
CREATED:20250303T215519Z
LAST-MODIFIED:20250303T215519Z
UID:2863-1742504400-1742513400@samuelbecketts.com
SUMMARY:Lenny Burridge
DESCRIPTION:Live Music from 9pm until Late!
URL:https://samuelbecketts.com/event/lenny-burridge-4/
CATEGORIES:Music & Events
END:VEVENT
BEGIN:VEVENT
DTSTART;TZID=UTC:20250321T213000
DTEND;TZID=UTC:20250321T233000
DTSTAMP:20260425T001057
CREATED:20250303T215540Z
LAST-MODIFIED:20250303T215540Z
UID:2865-1742592600-1742599800@samuelbecketts.com
SUMMARY:Lil Rob Ralston
DESCRIPTION:Live Music from 9:30pm until Late!
URL:https://samuelbecketts.com/event/lil-rob-ralston-3/
CATEGORIES:Music & Events
END:VEVENT
BEGIN:VEVENT
DTSTART;TZID=UTC:20250322T213000
DTEND;TZID=UTC:20250322T233000
DTSTAMP:20260425T001057
CREATED:20250303T215600Z
LAST-MODIFIED:20250303T215600Z
UID:2867-1742679000-1742686200@samuelbecketts.com
SUMMARY:Mike Leverone
DESCRIPTION:Live Music from 9:30pm until Late!
URL:https://samuelbecketts.com/event/mike-leverone-18/
CATEGORIES:Music & Events
END:VEVENT
BEGIN:VEVENT
DTSTART;TZID=America/New_York:20250325T190000
DTEND;TZID=America/New_York:20250325T220000
DTSTAMP:20260425T001057
CREATED:20250224T215948Z
LAST-MODIFIED:20250224T215948Z
UID:2826-1742929200-1742940000@samuelbecketts.com
SUMMARY:Trivia Tuesday
DESCRIPTION:Trivia by Trivia Kings\, starts at 7pm
URL:https://samuelbecketts.com/event/trivia-tuesday-12/
CATEGORIES:Music & Events
END:VEVENT
END:VCALENDAR