BEGIN:VCALENDAR
VERSION:2.0
PRODID:-//Samuel Beckett&#039;s Irish Gastro Pub - ECPv6.15.20//NONSGML v1.0//EN
CALSCALE:GREGORIAN
METHOD:PUBLISH
X-ORIGINAL-URL:https://samuelbecketts.com
X-WR-CALDESC:Events for Samuel Beckett&#039;s Irish Gastro Pub
REFRESH-INTERVAL;VALUE=DURATION:PT1H
X-Robots-Tag:noindex
X-PUBLISHED-TTL:PT1H
BEGIN:VTIMEZONE
TZID:America/New_York
BEGIN:DAYLIGHT
TZOFFSETFROM:-0500
TZOFFSETTO:-0400
TZNAME:EDT
DTSTART:20230312T070000
END:DAYLIGHT
BEGIN:STANDARD
TZOFFSETFROM:-0400
TZOFFSETTO:-0500
TZNAME:EST
DTSTART:20231105T060000
END:STANDARD
BEGIN:DAYLIGHT
TZOFFSETFROM:-0500
TZOFFSETTO:-0400
TZNAME:EDT
DTSTART:20240310T070000
END:DAYLIGHT
BEGIN:STANDARD
TZOFFSETFROM:-0400
TZOFFSETTO:-0500
TZNAME:EST
DTSTART:20241103T060000
END:STANDARD
BEGIN:DAYLIGHT
TZOFFSETFROM:-0500
TZOFFSETTO:-0400
TZNAME:EDT
DTSTART:20250309T070000
END:DAYLIGHT
BEGIN:STANDARD
TZOFFSETFROM:-0400
TZOFFSETTO:-0500
TZNAME:EST
DTSTART:20251102T060000
END:STANDARD
END:VTIMEZONE
BEGIN:VEVENT
DTSTART;TZID=America/New_York:20241101T213000
DTEND;TZID=America/New_York:20241101T233000
DTSTAMP:20260425T074217
CREATED:20241031T154313Z
LAST-MODIFIED:20241031T154459Z
UID:2491-1730496600-1730503800@samuelbecketts.com
SUMMARY:Drew Steyns & Ian Lafferty
DESCRIPTION:Live music from 9:30pm till Late
URL:https://samuelbecketts.com/event/drew-steyns-ian-lafferty/
CATEGORIES:Music & Events
END:VEVENT
BEGIN:VEVENT
DTSTART;TZID=America/New_York:20241102T100000
DTEND;TZID=America/New_York:20241102T120000
DTSTAMP:20260425T074217
CREATED:20241031T155418Z
LAST-MODIFIED:20241031T155418Z
UID:2518-1730541600-1730548800@samuelbecketts.com
SUMMARY:England v. New Zealand Rugby
DESCRIPTION:Doors open at 10am
URL:https://samuelbecketts.com/event/england-v-new-zealand-rugby/
CATEGORIES:Six Nations & Sports
END:VEVENT
BEGIN:VEVENT
DTSTART;TZID=America/New_York:20241102T110000
DTEND;TZID=America/New_York:20241102T130000
DTSTAMP:20260425T074217
CREATED:20241031T155456Z
LAST-MODIFIED:20241031T155456Z
UID:2520-1730545200-1730552400@samuelbecketts.com
SUMMARY:Bournemouth v. Man City
DESCRIPTION:
URL:https://samuelbecketts.com/event/bournemouth-v-man-city/
CATEGORIES:Six Nations & Sports
END:VEVENT
BEGIN:VEVENT
DTSTART;TZID=America/New_York:20241102T123000
DTEND;TZID=America/New_York:20241102T143000
DTSTAMP:20260425T074217
CREATED:20241031T155532Z
LAST-MODIFIED:20241031T155532Z
UID:2522-1730550600-1730557800@samuelbecketts.com
SUMMARY:Scotland v. Fiji Rugby
DESCRIPTION:
URL:https://samuelbecketts.com/event/scotland-v-fiji-rugby/
CATEGORIES:Six Nations & Sports
END:VEVENT
BEGIN:VEVENT
DTSTART;TZID=America/New_York:20241102T133000
DTEND;TZID=America/New_York:20241102T153000
DTSTAMP:20260425T074217
CREATED:20241031T155609Z
LAST-MODIFIED:20241031T155609Z
UID:2524-1730554200-1730561400@samuelbecketts.com
SUMMARY:Wolves v. Crystal Palace
DESCRIPTION:
URL:https://samuelbecketts.com/event/wolves-v-crystal-palace/
CATEGORIES:Six Nations & Sports
END:VEVENT
BEGIN:VEVENT
DTSTART;TZID=America/New_York:20241102T213000
DTEND;TZID=America/New_York:20241102T233000
DTSTAMP:20260425T074217
CREATED:20241031T154338Z
LAST-MODIFIED:20241031T154511Z
UID:2493-1730583000-1730590200@samuelbecketts.com
SUMMARY:Jason Perry
DESCRIPTION:Live music from 9:30pm till Late
URL:https://samuelbecketts.com/event/jason-perry-2/
CATEGORIES:Music & Events
END:VEVENT
BEGIN:VEVENT
DTSTART;VALUE=DATE:20241103
DTEND;VALUE=DATE:20241104
DTSTAMP:20260425T074217
CREATED:20241031T155719Z
LAST-MODIFIED:20241031T155719Z
UID:2528-1730592000-1730678399@samuelbecketts.com
SUMMARY:NFL Games
DESCRIPTION:Specific game by request
URL:https://samuelbecketts.com/event/nfl-games-5/
CATEGORIES:Six Nations & Sports
END:VEVENT
BEGIN:VEVENT
DTSTART;TZID=America/New_York:20241103T113000
DTEND;TZID=America/New_York:20241103T133000
DTSTAMP:20260425T074217
CREATED:20241031T155647Z
LAST-MODIFIED:20241031T155647Z
UID:2526-1730633400-1730640600@samuelbecketts.com
SUMMARY:Man United v. Chelsea
DESCRIPTION:
URL:https://samuelbecketts.com/event/man-united-v-chelsea/
CATEGORIES:Six Nations & Sports
END:VEVENT
BEGIN:VEVENT
DTSTART;TZID=America/New_York:20241104T150000
DTEND;TZID=America/New_York:20241104T170000
DTSTAMP:20260425T074217
CREATED:20241031T155754Z
LAST-MODIFIED:20241031T155754Z
UID:2530-1730732400-1730739600@samuelbecketts.com
SUMMARY:Fulham v. Brentford
DESCRIPTION:
URL:https://samuelbecketts.com/event/fulham-v-brentford/
CATEGORIES:Six Nations & Sports
END:VEVENT
BEGIN:VEVENT
DTSTART;TZID=America/New_York:20241104T200000
DTEND;TZID=America/New_York:20241104T223000
DTSTAMP:20260425T074217
CREATED:20241031T155828Z
LAST-MODIFIED:20241031T155828Z
UID:2532-1730750400-1730759400@samuelbecketts.com
SUMMARY:Buccaneers v. Chiefs
DESCRIPTION:
URL:https://samuelbecketts.com/event/buccaneers-v-chiefs/
CATEGORIES:Six Nations & Sports
END:VEVENT
BEGIN:VEVENT
DTSTART;TZID=America/New_York:20241105T190000
DTEND;TZID=America/New_York:20241105T220000
DTSTAMP:20260425T074217
CREATED:20241031T163858Z
LAST-MODIFIED:20241031T163858Z
UID:2609-1730833200-1730844000@samuelbecketts.com
SUMMARY:Trivia Tuesdays
DESCRIPTION:Trivia by Trivia Kings \nArrive for 7pm \nGames start at 7:30pm
URL:https://samuelbecketts.com/event/trivia-tuesdays/
CATEGORIES:Music & Events
END:VEVENT
BEGIN:VEVENT
DTSTART;TZID=America/New_York:20241107T200000
DTEND;TZID=America/New_York:20241107T223000
DTSTAMP:20260425T074217
CREATED:20241031T155858Z
LAST-MODIFIED:20241031T155858Z
UID:2534-1731009600-1731018600@samuelbecketts.com
SUMMARY:Bangals v. Ravens
DESCRIPTION:
URL:https://samuelbecketts.com/event/bangals-v-ravens/
CATEGORIES:Six Nations & Sports
END:VEVENT
BEGIN:VEVENT
DTSTART;TZID=America/New_York:20241107T213000
DTEND;TZID=America/New_York:20241107T233000
DTSTAMP:20260425T074217
CREATED:20241031T154439Z
LAST-MODIFIED:20241031T154521Z
UID:2495-1731015000-1731022200@samuelbecketts.com
SUMMARY:Gracie May
DESCRIPTION:Live music from 9pm till Late
URL:https://samuelbecketts.com/event/gracie-may-5/
CATEGORIES:Music & Events
END:VEVENT
BEGIN:VEVENT
DTSTART;TZID=America/New_York:20241108T150000
DTEND;TZID=America/New_York:20241108T173000
DTSTAMP:20260425T074217
CREATED:20241031T155935Z
LAST-MODIFIED:20241031T155935Z
UID:2536-1731078000-1731087000@samuelbecketts.com
SUMMARY:Ireland v. New Zealand Rugby
DESCRIPTION:
URL:https://samuelbecketts.com/event/ireland-v-new-zealand-rugby/
CATEGORIES:Six Nations & Sports
END:VEVENT
BEGIN:VEVENT
DTSTART;TZID=America/New_York:20241108T213000
DTEND;TZID=America/New_York:20241108T233000
DTSTAMP:20260425T074217
CREATED:20241031T154605Z
LAST-MODIFIED:20241031T154605Z
UID:2500-1731101400-1731108600@samuelbecketts.com
SUMMARY:Brad Doggett
DESCRIPTION:Live music from 9:30pm till Late
URL:https://samuelbecketts.com/event/brad-doggett-16/
CATEGORIES:Music & Events
END:VEVENT
BEGIN:VEVENT
DTSTART;TZID=America/New_York:20241109T100000
DTEND;TZID=America/New_York:20241109T120000
DTSTAMP:20260425T074217
CREATED:20241031T160033Z
LAST-MODIFIED:20241031T160033Z
UID:2538-1731146400-1731153600@samuelbecketts.com
SUMMARY:England v. Australia Rugby
DESCRIPTION:Doors open at 10am
URL:https://samuelbecketts.com/event/england-v-australia-rugby/
CATEGORIES:Six Nations & Sports
END:VEVENT
BEGIN:VEVENT
DTSTART;TZID=America/New_York:20241109T123000
DTEND;TZID=America/New_York:20241109T143000
DTSTAMP:20260425T074217
CREATED:20241031T160107Z
LAST-MODIFIED:20241031T160107Z
UID:2540-1731155400-1731162600@samuelbecketts.com
SUMMARY:Man City v. Brighton
DESCRIPTION:
URL:https://samuelbecketts.com/event/man-city-v-brighton/
CATEGORIES:Six Nations & Sports
END:VEVENT
BEGIN:VEVENT
DTSTART;TZID=America/New_York:20241109T123000
DTEND;TZID=America/New_York:20241109T143000
DTSTAMP:20260425T074217
CREATED:20241031T160150Z
LAST-MODIFIED:20241031T160150Z
UID:2542-1731155400-1731162600@samuelbecketts.com
SUMMARY:Italy v. Argentina Rugby
DESCRIPTION:
URL:https://samuelbecketts.com/event/italy-v-argentina-rugby/
CATEGORIES:Six Nations & Sports
END:VEVENT
BEGIN:VEVENT
DTSTART;TZID=America/New_York:20241109T150000
DTEND;TZID=America/New_York:20241109T170000
DTSTAMP:20260425T074217
CREATED:20241031T160733Z
LAST-MODIFIED:20241031T160733Z
UID:2544-1731164400-1731171600@samuelbecketts.com
SUMMARY:Liverpool v. Aston Villa
DESCRIPTION:
URL:https://samuelbecketts.com/event/liverpool-v-aston-villa/
CATEGORIES:Six Nations & Sports
END:VEVENT
BEGIN:VEVENT
DTSTART;TZID=America/New_York:20241109T150000
DTEND;TZID=America/New_York:20241109T170000
DTSTAMP:20260425T074217
CREATED:20241031T160801Z
LAST-MODIFIED:20241031T160801Z
UID:2546-1731164400-1731171600@samuelbecketts.com
SUMMARY:France v. Japan Rugby
DESCRIPTION:
URL:https://samuelbecketts.com/event/france-v-japan-rugby/
CATEGORIES:Six Nations & Sports
END:VEVENT
BEGIN:VEVENT
DTSTART;TZID=America/New_York:20241109T213000
DTEND;TZID=America/New_York:20241109T233000
DTSTAMP:20260425T074217
CREATED:20241031T154634Z
LAST-MODIFIED:20241031T154634Z
UID:2502-1731187800-1731195000@samuelbecketts.com
SUMMARY:The Ralstons
DESCRIPTION:Live music from 9:30pm till Late
URL:https://samuelbecketts.com/event/the-ralstons/
CATEGORIES:Music & Events
END:VEVENT
BEGIN:VEVENT
DTSTART;VALUE=DATE:20241110
DTEND;VALUE=DATE:20241111
DTSTAMP:20260425T074217
CREATED:20241031T160939Z
LAST-MODIFIED:20241031T160943Z
UID:2552-1731196800-1731283199@samuelbecketts.com
SUMMARY:NFL Games
DESCRIPTION:Specific game by request
URL:https://samuelbecketts.com/event/nfl-games-6/
CATEGORIES:Six Nations & Sports
END:VEVENT
BEGIN:VEVENT
DTSTART;TZID=America/New_York:20241110T110000
DTEND;TZID=America/New_York:20241110T130000
DTSTAMP:20260425T074217
CREATED:20241031T160918Z
LAST-MODIFIED:20241031T160918Z
UID:2550-1731236400-1731243600@samuelbecketts.com
SUMMARY:Scotland v. South Africa Rugby
DESCRIPTION:
URL:https://samuelbecketts.com/event/scotland-v-south-africa-rugby/
CATEGORIES:Six Nations & Sports
END:VEVENT
BEGIN:VEVENT
DTSTART;TZID=America/New_York:20241110T113000
DTEND;TZID=America/New_York:20241110T133000
DTSTAMP:20260425T074217
CREATED:20241031T160844Z
LAST-MODIFIED:20241031T160844Z
UID:2548-1731238200-1731245400@samuelbecketts.com
SUMMARY:Chelsea v. Arsenal
DESCRIPTION:
URL:https://samuelbecketts.com/event/chelsea-v-arsenal/
CATEGORIES:Six Nations & Sports
END:VEVENT
BEGIN:VEVENT
DTSTART;TZID=America/New_York:20241111T200000
DTEND;TZID=America/New_York:20241111T223000
DTSTAMP:20260425T074217
CREATED:20241031T161508Z
LAST-MODIFIED:20241031T161508Z
UID:2554-1731355200-1731364200@samuelbecketts.com
SUMMARY:Dolphins v. Rams
DESCRIPTION:
URL:https://samuelbecketts.com/event/dolphins-v-rams/
CATEGORIES:Six Nations & Sports
END:VEVENT
BEGIN:VEVENT
DTSTART;TZID=America/New_York:20241112T190000
DTEND;TZID=America/New_York:20241112T220000
DTSTAMP:20260425T074217
CREATED:20241031T163921Z
LAST-MODIFIED:20241031T163921Z
UID:2611-1731438000-1731448800@samuelbecketts.com
SUMMARY:Trivia Tuesdays
DESCRIPTION:Trivia by Trivia Kings \nArrive for 7pm \nGames start at 7:30pm
URL:https://samuelbecketts.com/event/trivia-tuesdays-2/
CATEGORIES:Music & Events
END:VEVENT
BEGIN:VEVENT
DTSTART;TZID=America/New_York:20241113T183000
DTEND;TZID=America/New_York:20241113T213000
DTSTAMP:20260425T074217
CREATED:20241031T164143Z
LAST-MODIFIED:20241031T164143Z
UID:2617-1731522600-1731533400@samuelbecketts.com
SUMMARY:Music Bingo
DESCRIPTION:Arrive for 6:30pm \nGames start at 7pm
URL:https://samuelbecketts.com/event/music-bingo/
CATEGORIES:Music & Events
END:VEVENT
BEGIN:VEVENT
DTSTART;TZID=America/New_York:20241114T200000
DTEND;TZID=America/New_York:20241114T223000
DTSTAMP:20260425T074217
CREATED:20241031T161539Z
LAST-MODIFIED:20241031T161539Z
UID:2556-1731614400-1731623400@samuelbecketts.com
SUMMARY:Eagles v. Commanders
DESCRIPTION:
URL:https://samuelbecketts.com/event/eagles-v-commanders/
CATEGORIES:Six Nations & Sports
END:VEVENT
BEGIN:VEVENT
DTSTART;TZID=America/New_York:20241114T210000
DTEND;TZID=America/New_York:20241114T230000
DTSTAMP:20260425T074217
CREATED:20241031T155136Z
LAST-MODIFIED:20241031T155136Z
UID:2512-1731618000-1731625200@samuelbecketts.com
SUMMARY:Gracie May
DESCRIPTION:Live music from 9pm till Late
URL:https://samuelbecketts.com/event/gracie-may-7/
CATEGORIES:Music & Events
END:VEVENT
BEGIN:VEVENT
DTSTART;TZID=America/New_York:20241115T150000
DTEND;TZID=America/New_York:20241115T170000
DTSTAMP:20260425T074217
CREATED:20241031T161623Z
LAST-MODIFIED:20241031T161623Z
UID:2558-1731682800-1731690000@samuelbecketts.com
SUMMARY:Ireland v. Argentina Rugby
DESCRIPTION:
URL:https://samuelbecketts.com/event/ireland-v-argentina-rugby/
CATEGORIES:Six Nations & Sports
END:VEVENT
END:VCALENDAR