BEGIN:VCALENDAR
VERSION:2.0
PRODID:-//Samuel Beckett&#039;s Irish Gastro Pub - ECPv6.15.20//NONSGML v1.0//EN
CALSCALE:GREGORIAN
METHOD:PUBLISH
X-ORIGINAL-URL:https://samuelbecketts.com
X-WR-CALDESC:Events for Samuel Beckett&#039;s Irish Gastro Pub
REFRESH-INTERVAL;VALUE=DURATION:PT1H
X-Robots-Tag:noindex
X-PUBLISHED-TTL:PT1H
BEGIN:VTIMEZONE
TZID:America/New_York
BEGIN:DAYLIGHT
TZOFFSETFROM:-0500
TZOFFSETTO:-0400
TZNAME:EDT
DTSTART:20230312T070000
END:DAYLIGHT
BEGIN:STANDARD
TZOFFSETFROM:-0400
TZOFFSETTO:-0500
TZNAME:EST
DTSTART:20231105T060000
END:STANDARD
BEGIN:DAYLIGHT
TZOFFSETFROM:-0500
TZOFFSETTO:-0400
TZNAME:EDT
DTSTART:20240310T070000
END:DAYLIGHT
BEGIN:STANDARD
TZOFFSETFROM:-0400
TZOFFSETTO:-0500
TZNAME:EST
DTSTART:20241103T060000
END:STANDARD
BEGIN:DAYLIGHT
TZOFFSETFROM:-0500
TZOFFSETTO:-0400
TZNAME:EDT
DTSTART:20250309T070000
END:DAYLIGHT
BEGIN:STANDARD
TZOFFSETFROM:-0400
TZOFFSETTO:-0500
TZNAME:EST
DTSTART:20251102T060000
END:STANDARD
END:VTIMEZONE
BEGIN:VEVENT
DTSTART;TZID=America/New_York:20241003T210000
DTEND;TZID=America/New_York:20241003T230000
DTSTAMP:20260425T091505
CREATED:20241004T174216Z
LAST-MODIFIED:20241004T174216Z
UID:2342-1727989200-1727996400@samuelbecketts.com
SUMMARY:Gracie May
DESCRIPTION:Live music from 9pm till Late
URL:https://samuelbecketts.com/event/gracie-may/
CATEGORIES:Music & Events
END:VEVENT
BEGIN:VEVENT
DTSTART;TZID=America/New_York:20241004T213000
DTEND;TZID=America/New_York:20241004T233000
DTSTAMP:20260425T091505
CREATED:20241004T174155Z
LAST-MODIFIED:20241004T174229Z
UID:2339-1728077400-1728084600@samuelbecketts.com
SUMMARY:Jon G.
DESCRIPTION:Live music from 9:30pm till Late
URL:https://samuelbecketts.com/event/jon-g-2/
CATEGORIES:Music & Events
END:VEVENT
BEGIN:VEVENT
DTSTART;TZID=America/New_York:20241005T160000
DTEND;TZID=America/New_York:20241005T183000
DTSTAMP:20260425T091505
CREATED:20241005T175154Z
LAST-MODIFIED:20241005T175302Z
UID:2386-1728144000-1728153000@samuelbecketts.com
SUMMARY:Phillies v. Mets
DESCRIPTION:
URL:https://samuelbecketts.com/event/phillies-v-mets/
CATEGORIES:Six Nations & Sports
END:VEVENT
BEGIN:VEVENT
DTSTART;TZID=America/New_York:20241005T183000
DTEND;TZID=America/New_York:20241005T203000
DTSTAMP:20260425T091505
CREATED:20241005T175216Z
LAST-MODIFIED:20241005T175315Z
UID:2389-1728153000-1728160200@samuelbecketts.com
SUMMARY:Royals v. Yankees
DESCRIPTION:
URL:https://samuelbecketts.com/event/royals-v-yankees/
CATEGORIES:Six Nations & Sports
END:VEVENT
BEGIN:VEVENT
DTSTART;TZID=America/New_York:20241005T203000
DTEND;TZID=America/New_York:20241005T223000
DTSTAMP:20260425T091505
CREATED:20241005T175241Z
LAST-MODIFIED:20241005T175241Z
UID:2391-1728160200-1728167400@samuelbecketts.com
SUMMARY:Padres v. Dogers
DESCRIPTION:
URL:https://samuelbecketts.com/event/padres-v-dogers/
CATEGORIES:Six Nations & Sports
END:VEVENT
BEGIN:VEVENT
DTSTART;TZID=America/New_York:20241005T213000
DTEND;TZID=America/New_York:20241005T233000
DTSTAMP:20260425T091505
CREATED:20241004T174247Z
LAST-MODIFIED:20241004T174247Z
UID:2346-1728163800-1728171000@samuelbecketts.com
SUMMARY:Steve Bray
DESCRIPTION:Live music from 9:30pm till Late
URL:https://samuelbecketts.com/event/steve-bray-14/
CATEGORIES:Music & Events
END:VEVENT
BEGIN:VEVENT
DTSTART;VALUE=DATE:20241006
DTEND;VALUE=DATE:20241007
DTSTAMP:20260425T091505
CREATED:20241005T175442Z
LAST-MODIFIED:20241005T175442Z
UID:2399-1728172800-1728259199@samuelbecketts.com
SUMMARY:NFL Games
DESCRIPTION:Specific game by request
URL:https://samuelbecketts.com/event/nfl-games/
CATEGORIES:Six Nations & Sports
END:VEVENT
BEGIN:VEVENT
DTSTART;TZID=America/New_York:20241006T113000
DTEND;TZID=America/New_York:20241006T133000
DTSTAMP:20260425T091505
CREATED:20241005T175339Z
LAST-MODIFIED:20241005T175339Z
UID:2394-1728214200-1728221400@samuelbecketts.com
SUMMARY:Brighton v. Tottenham
DESCRIPTION:
URL:https://samuelbecketts.com/event/brighton-v-tottenham/
CATEGORIES:Six Nations & Sports
END:VEVENT
BEGIN:VEVENT
DTSTART;TZID=America/New_York:20241006T160000
DTEND;TZID=America/New_York:20241006T180000
DTSTAMP:20260425T091505
CREATED:20241005T175404Z
LAST-MODIFIED:20241005T175404Z
UID:2397-1728230400-1728237600@samuelbecketts.com
SUMMARY:Mets v. Phillies
DESCRIPTION:
URL:https://samuelbecketts.com/event/mets-v-phillies/
CATEGORIES:Six Nations & Sports
END:VEVENT
BEGIN:VEVENT
DTSTART;TZID=America/New_York:20241006T200000
DTEND;TZID=America/New_York:20241006T220000
DTSTAMP:20260425T091505
CREATED:20241005T175503Z
LAST-MODIFIED:20241005T175503Z
UID:2402-1728244800-1728252000@samuelbecketts.com
SUMMARY:Padres v. Dogers
DESCRIPTION:
URL:https://samuelbecketts.com/event/padres-v-dogers-2/
CATEGORIES:Six Nations & Sports
END:VEVENT
BEGIN:VEVENT
DTSTART;TZID=America/New_York:20241007T160000
DTEND;TZID=America/New_York:20241007T180000
DTSTAMP:20260425T091505
CREATED:20241005T175522Z
LAST-MODIFIED:20241005T175522Z
UID:2404-1728316800-1728324000@samuelbecketts.com
SUMMARY:Tigers v. Guardians
DESCRIPTION:
URL:https://samuelbecketts.com/event/tigers-v-guardians/
CATEGORIES:Six Nations & Sports
END:VEVENT
BEGIN:VEVENT
DTSTART;TZID=America/New_York:20241007T193000
DTEND;TZID=America/New_York:20241007T213000
DTSTAMP:20260425T091505
CREATED:20241005T175643Z
LAST-MODIFIED:20241005T175643Z
UID:2407-1728329400-1728336600@samuelbecketts.com
SUMMARY:Royals v. Yankees
DESCRIPTION:
URL:https://samuelbecketts.com/event/royals-v-yankees-2/
CATEGORIES:Six Nations & Sports
END:VEVENT
BEGIN:VEVENT
DTSTART;TZID=America/New_York:20241007T200000
DTEND;TZID=America/New_York:20241007T220000
DTSTAMP:20260425T091505
CREATED:20241005T184021Z
LAST-MODIFIED:20241005T184021Z
UID:2409-1728331200-1728338400@samuelbecketts.com
SUMMARY:Saints v. Chiefs
DESCRIPTION:
URL:https://samuelbecketts.com/event/saints-v-chiefs/
CATEGORIES:Six Nations & Sports
END:VEVENT
BEGIN:VEVENT
DTSTART;TZID=America/New_York:20241008T170000
DTEND;TZID=America/New_York:20241008T190000
DTSTAMP:20260425T091505
CREATED:20241005T184040Z
LAST-MODIFIED:20241005T184040Z
UID:2411-1728406800-1728414000@samuelbecketts.com
SUMMARY:Phillies v. Mets
DESCRIPTION:
URL:https://samuelbecketts.com/event/phillies-v-mets-2/
CATEGORIES:Six Nations & Sports
END:VEVENT
BEGIN:VEVENT
DTSTART;TZID=America/New_York:20241008T210000
DTEND;TZID=America/New_York:20241008T230000
DTSTAMP:20260425T091505
CREATED:20241005T184105Z
LAST-MODIFIED:20241005T184105Z
UID:2413-1728421200-1728428400@samuelbecketts.com
SUMMARY:Dogers v. Padres
DESCRIPTION:
URL:https://samuelbecketts.com/event/dogers-v-padres/
CATEGORIES:Six Nations & Sports
END:VEVENT
BEGIN:VEVENT
DTSTART;TZID=America/New_York:20241009T150000
DTEND;TZID=America/New_York:20241009T170000
DTSTAMP:20260425T091505
CREATED:20241005T184122Z
LAST-MODIFIED:20241005T184122Z
UID:2415-1728486000-1728493200@samuelbecketts.com
SUMMARY:Guardians v. Tigers
DESCRIPTION:
URL:https://samuelbecketts.com/event/guardians-v-tigers/
CATEGORIES:Six Nations & Sports
END:VEVENT
BEGIN:VEVENT
DTSTART;TZID=America/New_York:20241009T170000
DTEND;TZID=America/New_York:20241009T190000
DTSTAMP:20260425T091505
CREATED:20241005T184141Z
LAST-MODIFIED:20241005T184141Z
UID:2418-1728493200-1728500400@samuelbecketts.com
SUMMARY:Phillies v. Mets
DESCRIPTION:
URL:https://samuelbecketts.com/event/phillies-v-mets-3/
CATEGORIES:Six Nations & Sports
END:VEVENT
BEGIN:VEVENT
DTSTART;TZID=America/New_York:20241009T190000
DTEND;TZID=America/New_York:20241009T210000
DTSTAMP:20260425T091505
CREATED:20241005T184207Z
LAST-MODIFIED:20241005T184207Z
UID:2421-1728500400-1728507600@samuelbecketts.com
SUMMARY:Yankees v. Royals
DESCRIPTION:
URL:https://samuelbecketts.com/event/yankees-v-royals/
CATEGORIES:Six Nations & Sports
END:VEVENT
BEGIN:VEVENT
DTSTART;TZID=America/New_York:20241009T210000
DTEND;TZID=America/New_York:20241009T230000
DTSTAMP:20260425T091505
CREATED:20241005T184236Z
LAST-MODIFIED:20241005T184236Z
UID:2424-1728507600-1728514800@samuelbecketts.com
SUMMARY:Dogers v. Padres
DESCRIPTION:
URL:https://samuelbecketts.com/event/dogers-v-padres-2/
CATEGORIES:Six Nations & Sports
END:VEVENT
BEGIN:VEVENT
DTSTART;TZID=America/New_York:20241010T180000
DTEND;TZID=America/New_York:20241010T200000
DTSTAMP:20260425T091505
CREATED:20241005T184337Z
LAST-MODIFIED:20241005T184337Z
UID:2427-1728583200-1728590400@samuelbecketts.com
SUMMARY:Guardians v. Tigers
DESCRIPTION:
URL:https://samuelbecketts.com/event/guardians-v-tigers-2/
CATEGORIES:Six Nations & Sports
END:VEVENT
BEGIN:VEVENT
DTSTART;TZID=America/New_York:20241010T200000
DTEND;TZID=America/New_York:20241010T220000
DTSTAMP:20260425T091505
CREATED:20241005T184403Z
LAST-MODIFIED:20241005T184403Z
UID:2430-1728590400-1728597600@samuelbecketts.com
SUMMARY:49ers v. Seahawks
DESCRIPTION:
URL:https://samuelbecketts.com/event/49ers-v-seahawks/
CATEGORIES:Six Nations & Sports
END:VEVENT
BEGIN:VEVENT
DTSTART;TZID=America/New_York:20241010T210000
DTEND;TZID=America/New_York:20241010T230000
DTSTAMP:20260425T091505
CREATED:20241004T174309Z
LAST-MODIFIED:20241004T174309Z
UID:2348-1728594000-1728601200@samuelbecketts.com
SUMMARY:Gracie May
DESCRIPTION:Live music from 9pm till Late
URL:https://samuelbecketts.com/event/gracie-may-2/
CATEGORIES:Music & Events
END:VEVENT
BEGIN:VEVENT
DTSTART;TZID=America/New_York:20241011T160000
DTEND;TZID=America/New_York:20241011T180000
DTSTAMP:20260425T091505
CREATED:20241005T184432Z
LAST-MODIFIED:20241005T184432Z
UID:2432-1728662400-1728669600@samuelbecketts.com
SUMMARY:Mets v. Phillies
DESCRIPTION:
URL:https://samuelbecketts.com/event/mets-v-phillies-2/
CATEGORIES:Six Nations & Sports
END:VEVENT
BEGIN:VEVENT
DTSTART;TZID=America/New_York:20241011T200000
DTEND;TZID=America/New_York:20241011T220000
DTSTAMP:20260425T091505
CREATED:20241005T184450Z
LAST-MODIFIED:20241005T184450Z
UID:2435-1728676800-1728684000@samuelbecketts.com
SUMMARY:Padres v. Dogers
DESCRIPTION:
URL:https://samuelbecketts.com/event/padres-v-dogers-3/
CATEGORIES:Six Nations & Sports
END:VEVENT
BEGIN:VEVENT
DTSTART;TZID=America/New_York:20241011T213000
DTEND;TZID=America/New_York:20241011T233000
DTSTAMP:20260425T091505
CREATED:20241004T174329Z
LAST-MODIFIED:20241004T174329Z
UID:2350-1728682200-1728689400@samuelbecketts.com
SUMMARY:Mike Leverone
DESCRIPTION:Live music from 9:30pm till Late
URL:https://samuelbecketts.com/event/mike-leverone-14/
CATEGORIES:Music & Events
END:VEVENT
BEGIN:VEVENT
DTSTART;TZID=America/New_York:20241012T160000
DTEND;TZID=America/New_York:20241012T180000
DTSTAMP:20260425T091505
CREATED:20241005T184513Z
LAST-MODIFIED:20241005T184513Z
UID:2437-1728748800-1728756000@samuelbecketts.com
SUMMARY:Guardians v. Tigers
DESCRIPTION:
URL:https://samuelbecketts.com/event/guardians-v-tigers-3/
CATEGORIES:Six Nations & Sports
END:VEVENT
BEGIN:VEVENT
DTSTART;TZID=America/New_York:20241012T200000
DTEND;TZID=America/New_York:20241012T220000
DTSTAMP:20260425T091505
CREATED:20241005T184532Z
LAST-MODIFIED:20241005T184532Z
UID:2440-1728763200-1728770400@samuelbecketts.com
SUMMARY:Royals v. Yankees
DESCRIPTION:
URL:https://samuelbecketts.com/event/royals-v-yankees-3/
CATEGORIES:Six Nations & Sports
END:VEVENT
BEGIN:VEVENT
DTSTART;TZID=America/New_York:20241012T213000
DTEND;TZID=America/New_York:20241012T233000
DTSTAMP:20260425T091505
CREATED:20241004T174403Z
LAST-MODIFIED:20241004T174403Z
UID:2353-1728768600-1728775800@samuelbecketts.com
SUMMARY:Brad Doggett
DESCRIPTION:Live music from 9:30pm till Late
URL:https://samuelbecketts.com/event/brad-doggett-15/
CATEGORIES:Music & Events
END:VEVENT
BEGIN:VEVENT
DTSTART;VALUE=DATE:20241013
DTEND;VALUE=DATE:20241014
DTSTAMP:20260425T091505
CREATED:20241005T184605Z
LAST-MODIFIED:20241005T184605Z
UID:2442-1728777600-1728863999@samuelbecketts.com
SUMMARY:NFL Games
DESCRIPTION:Specific game by request
URL:https://samuelbecketts.com/event/nfl-games-2/
CATEGORIES:Six Nations & Sports
END:VEVENT
BEGIN:VEVENT
DTSTART;TZID=America/New_York:20241017T200000
DTEND;TZID=America/New_York:20241017T220000
DTSTAMP:20260425T091505
CREATED:20241005T184637Z
LAST-MODIFIED:20241005T184637Z
UID:2445-1729195200-1729202400@samuelbecketts.com
SUMMARY:Broncos v. Saints
DESCRIPTION:
URL:https://samuelbecketts.com/event/broncos-v-saints/
CATEGORIES:Six Nations & Sports
END:VEVENT
END:VCALENDAR