BEGIN:VCALENDAR
VERSION:2.0
PRODID:-//Samuel Beckett&#039;s Irish Gastro Pub - ECPv6.15.20//NONSGML v1.0//EN
CALSCALE:GREGORIAN
METHOD:PUBLISH
X-WR-CALNAME:Samuel Beckett&#039;s Irish Gastro Pub
X-ORIGINAL-URL:https://samuelbecketts.com
X-WR-CALDESC:Events for Samuel Beckett&#039;s Irish Gastro Pub
REFRESH-INTERVAL;VALUE=DURATION:PT1H
X-Robots-Tag:noindex
X-PUBLISHED-TTL:PT1H
BEGIN:VTIMEZONE
TZID:America/New_York
BEGIN:DAYLIGHT
TZOFFSETFROM:-0500
TZOFFSETTO:-0400
TZNAME:EDT
DTSTART:20230312T070000
END:DAYLIGHT
BEGIN:STANDARD
TZOFFSETFROM:-0400
TZOFFSETTO:-0500
TZNAME:EST
DTSTART:20231105T060000
END:STANDARD
BEGIN:DAYLIGHT
TZOFFSETFROM:-0500
TZOFFSETTO:-0400
TZNAME:EDT
DTSTART:20240310T070000
END:DAYLIGHT
BEGIN:STANDARD
TZOFFSETFROM:-0400
TZOFFSETTO:-0500
TZNAME:EST
DTSTART:20241103T060000
END:STANDARD
BEGIN:DAYLIGHT
TZOFFSETFROM:-0500
TZOFFSETTO:-0400
TZNAME:EDT
DTSTART:20250309T070000
END:DAYLIGHT
BEGIN:STANDARD
TZOFFSETFROM:-0400
TZOFFSETTO:-0500
TZNAME:EST
DTSTART:20251102T060000
END:STANDARD
END:VTIMEZONE
BEGIN:VEVENT
DTSTART;TZID=America/New_York:20240503T213000
DTEND;TZID=America/New_York:20240503T233000
DTSTAMP:20260425T181704
CREATED:20240430T021315Z
LAST-MODIFIED:20240430T021315Z
UID:2019-1714771800-1714779000@samuelbecketts.com
SUMMARY:Joe Heilman
DESCRIPTION:
URL:https://samuelbecketts.com/event/joe-heilman/
CATEGORIES:Music & Events
END:VEVENT
BEGIN:VEVENT
DTSTART;TZID=America/New_York:20240504T213000
DTEND;TZID=America/New_York:20240504T233000
DTSTAMP:20260425T181704
CREATED:20240430T021516Z
LAST-MODIFIED:20240430T021516Z
UID:2021-1714858200-1714865400@samuelbecketts.com
SUMMARY:Mike Leverone
DESCRIPTION:
URL:https://samuelbecketts.com/event/mike-leverone-12/
CATEGORIES:Music & Events
END:VEVENT
BEGIN:VEVENT
DTSTART;TZID=America/New_York:20240510T213000
DTEND;TZID=America/New_York:20240510T233000
DTSTAMP:20260425T181704
CREATED:20240430T021542Z
LAST-MODIFIED:20240430T021542Z
UID:2023-1715376600-1715383800@samuelbecketts.com
SUMMARY:Drew Stevyns
DESCRIPTION:
URL:https://samuelbecketts.com/event/drew-stevyns-4/
CATEGORIES:Music & Events
END:VEVENT
BEGIN:VEVENT
DTSTART;TZID=America/New_York:20240511T213000
DTEND;TZID=America/New_York:20240511T233000
DTSTAMP:20260425T181704
CREATED:20240430T021608Z
LAST-MODIFIED:20240430T022128Z
UID:2025-1715463000-1715470200@samuelbecketts.com
SUMMARY:Steve Bray
DESCRIPTION:
URL:https://samuelbecketts.com/event/steve-bray-10/
CATEGORIES:Music & Events
END:VEVENT
BEGIN:VEVENT
DTSTART;TZID=America/New_York:20240517T213000
DTEND;TZID=America/New_York:20240517T233000
DTSTAMP:20260425T181704
CREATED:20240430T021630Z
LAST-MODIFIED:20240430T021630Z
UID:2027-1715981400-1715988600@samuelbecketts.com
SUMMARY:Eddie Pasa
DESCRIPTION:
URL:https://samuelbecketts.com/event/eddie-pasa-9/
CATEGORIES:Music & Events
END:VEVENT
BEGIN:VEVENT
DTSTART;TZID=America/New_York:20240518T213000
DTEND;TZID=America/New_York:20240518T233000
DTSTAMP:20260425T181704
CREATED:20240430T021658Z
LAST-MODIFIED:20240430T021658Z
UID:2029-1716067800-1716075000@samuelbecketts.com
SUMMARY:Rocky Guttman
DESCRIPTION:
URL:https://samuelbecketts.com/event/rocky-guttman-3/
CATEGORIES:Music & Events
END:VEVENT
BEGIN:VEVENT
DTSTART;TZID=America/New_York:20240524T213000
DTEND;TZID=America/New_York:20240524T233000
DTSTAMP:20260425T181704
CREATED:20240430T021721Z
LAST-MODIFIED:20240430T021721Z
UID:2031-1716586200-1716593400@samuelbecketts.com
SUMMARY:Brad Doggett
DESCRIPTION:
URL:https://samuelbecketts.com/event/brad-doggett-11/
CATEGORIES:Music & Events
END:VEVENT
BEGIN:VEVENT
DTSTART;TZID=America/New_York:20240525T213000
DTEND;TZID=America/New_York:20240525T233000
DTSTAMP:20260425T181704
CREATED:20240430T021744Z
LAST-MODIFIED:20240430T021744Z
UID:2033-1716672600-1716679800@samuelbecketts.com
SUMMARY:David Thong
DESCRIPTION:
URL:https://samuelbecketts.com/event/david-thong-2/
CATEGORIES:Music & Events
END:VEVENT
BEGIN:VEVENT
DTSTART;TZID=America/New_York:20240530T190000
DTEND;TZID=America/New_York:20240530T220000
DTSTAMP:20260425T181704
CREATED:20240430T021957Z
LAST-MODIFIED:20240430T022255Z
UID:2037-1717095600-1717106400@samuelbecketts.com
SUMMARY:Whiskey & Cigar Night
DESCRIPTION:We will be offering guests a variety of different whiskeys to sample whilst enjoying a cigar on our patio.\nEach ticket is $75 and includes:– Cigar– Gift Bag– 6 x samples of whiskey from our available selection\nWe hope to see you here.\nTickets to be purchased at the Main Bar inside the pub\, or call us at 703-379-0122\, or email info@samuelbecketts.com\nWhiskeyCigar
URL:https://samuelbecketts.com/event/whiskey-cigar-night/
END:VEVENT
BEGIN:VEVENT
DTSTART;TZID=America/New_York:20240531T213000
DTEND;TZID=America/New_York:20240531T233000
DTSTAMP:20260425T181704
CREATED:20240430T021803Z
LAST-MODIFIED:20240430T021803Z
UID:2035-1717191000-1717198200@samuelbecketts.com
SUMMARY:Spike Burton
DESCRIPTION:
URL:https://samuelbecketts.com/event/spike-burton-11/
CATEGORIES:Music & Events
END:VEVENT
END:VCALENDAR