BEGIN:VCALENDAR
VERSION:2.0
PRODID:-//Samuel Beckett&#039;s Irish Gastro Pub - ECPv6.15.20//NONSGML v1.0//EN
CALSCALE:GREGORIAN
METHOD:PUBLISH
X-ORIGINAL-URL:https://samuelbecketts.com
X-WR-CALDESC:Events for Samuel Beckett&#039;s Irish Gastro Pub
REFRESH-INTERVAL;VALUE=DURATION:PT1H
X-Robots-Tag:noindex
X-PUBLISHED-TTL:PT1H
BEGIN:VTIMEZONE
TZID:America/New_York
BEGIN:DAYLIGHT
TZOFFSETFROM:-0500
TZOFFSETTO:-0400
TZNAME:EDT
DTSTART:20230312T070000
END:DAYLIGHT
BEGIN:STANDARD
TZOFFSETFROM:-0400
TZOFFSETTO:-0500
TZNAME:EST
DTSTART:20231105T060000
END:STANDARD
BEGIN:DAYLIGHT
TZOFFSETFROM:-0500
TZOFFSETTO:-0400
TZNAME:EDT
DTSTART:20240310T070000
END:DAYLIGHT
BEGIN:STANDARD
TZOFFSETFROM:-0400
TZOFFSETTO:-0500
TZNAME:EST
DTSTART:20241103T060000
END:STANDARD
BEGIN:DAYLIGHT
TZOFFSETFROM:-0500
TZOFFSETTO:-0400
TZNAME:EDT
DTSTART:20250309T070000
END:DAYLIGHT
BEGIN:STANDARD
TZOFFSETFROM:-0400
TZOFFSETTO:-0500
TZNAME:EST
DTSTART:20251102T060000
END:STANDARD
END:VTIMEZONE
BEGIN:VEVENT
DTSTART;TZID=America/New_York:20240405T213000
DTEND;TZID=America/New_York:20240405T233000
DTSTAMP:20260425T194840
CREATED:20240402T163024Z
LAST-MODIFIED:20240402T163024Z
UID:1988-1712352600-1712359800@samuelbecketts.com
SUMMARY:Matt Burridge
DESCRIPTION:
URL:https://samuelbecketts.com/event/matt-burridge-2/
CATEGORIES:Music & Events
END:VEVENT
BEGIN:VEVENT
DTSTART;TZID=America/New_York:20240406T213000
DTEND;TZID=America/New_York:20240406T233000
DTSTAMP:20260425T194840
CREATED:20240402T163112Z
LAST-MODIFIED:20240402T163112Z
UID:1990-1712439000-1712446200@samuelbecketts.com
SUMMARY:Jojo Bayliss
DESCRIPTION:
URL:https://samuelbecketts.com/event/jojo-bayliss/
CATEGORIES:Music & Events
END:VEVENT
BEGIN:VEVENT
DTSTART;TZID=America/New_York:20240412T213000
DTEND;TZID=America/New_York:20240412T233000
DTSTAMP:20260425T194840
CREATED:20240402T163143Z
LAST-MODIFIED:20240402T163143Z
UID:1992-1712957400-1712964600@samuelbecketts.com
SUMMARY:Something Shiny
DESCRIPTION:
URL:https://samuelbecketts.com/event/something-shiny/
CATEGORIES:Music & Events
END:VEVENT
BEGIN:VEVENT
DTSTART;TZID=America/New_York:20240413T213000
DTEND;TZID=America/New_York:20240413T233000
DTSTAMP:20260425T194840
CREATED:20240402T163211Z
LAST-MODIFIED:20240402T163211Z
UID:1994-1713043800-1713051000@samuelbecketts.com
SUMMARY:Brad Doggett
DESCRIPTION:
URL:https://samuelbecketts.com/event/brad-doggett-10/
CATEGORIES:Music & Events
END:VEVENT
BEGIN:VEVENT
DTSTART;TZID=America/New_York:20240419T213000
DTEND;TZID=America/New_York:20240419T233000
DTSTAMP:20260425T194840
CREATED:20240402T163238Z
LAST-MODIFIED:20240402T163238Z
UID:1996-1713562200-1713569400@samuelbecketts.com
SUMMARY:Eddie Pasa
DESCRIPTION:
URL:https://samuelbecketts.com/event/eddie-pasa-8/
CATEGORIES:Music & Events
END:VEVENT
BEGIN:VEVENT
DTSTART;TZID=America/New_York:20240420T213000
DTEND;TZID=America/New_York:20240420T233000
DTSTAMP:20260425T194840
CREATED:20240402T163308Z
LAST-MODIFIED:20240402T163308Z
UID:1998-1713648600-1713655800@samuelbecketts.com
SUMMARY:Rocky Guttmann
DESCRIPTION:
URL:https://samuelbecketts.com/event/rocky-guttmann-4/
CATEGORIES:Music & Events
END:VEVENT
BEGIN:VEVENT
DTSTART;TZID=America/New_York:20240426T213000
DTEND;TZID=America/New_York:20240426T233000
DTSTAMP:20260425T194840
CREATED:20240402T163339Z
LAST-MODIFIED:20240402T163339Z
UID:2000-1714167000-1714174200@samuelbecketts.com
SUMMARY:Chute Duo
DESCRIPTION:
URL:https://samuelbecketts.com/event/chute-duo-2/
CATEGORIES:Music & Events
END:VEVENT
BEGIN:VEVENT
DTSTART;TZID=America/New_York:20240427T213000
DTEND;TZID=America/New_York:20240427T233000
DTSTAMP:20260425T194840
CREATED:20240402T163404Z
LAST-MODIFIED:20240402T163404Z
UID:2002-1714253400-1714260600@samuelbecketts.com
SUMMARY:Spike Burton
DESCRIPTION:
URL:https://samuelbecketts.com/event/spike-burton-10/
CATEGORIES:Music & Events
END:VEVENT
END:VCALENDAR