BEGIN:VCALENDAR
VERSION:2.0
PRODID:-//Samuel Beckett&#039;s Irish Gastro Pub - ECPv6.15.20//NONSGML v1.0//EN
CALSCALE:GREGORIAN
METHOD:PUBLISH
X-WR-CALNAME:Samuel Beckett&#039;s Irish Gastro Pub
X-ORIGINAL-URL:https://samuelbecketts.com
X-WR-CALDESC:Events for Samuel Beckett&#039;s Irish Gastro Pub
REFRESH-INTERVAL;VALUE=DURATION:PT1H
X-Robots-Tag:noindex
X-PUBLISHED-TTL:PT1H
BEGIN:VTIMEZONE
TZID:America/New_York
BEGIN:DAYLIGHT
TZOFFSETFROM:-0500
TZOFFSETTO:-0400
TZNAME:EDT
DTSTART:20240310T070000
END:DAYLIGHT
BEGIN:STANDARD
TZOFFSETFROM:-0400
TZOFFSETTO:-0500
TZNAME:EST
DTSTART:20241103T060000
END:STANDARD
BEGIN:DAYLIGHT
TZOFFSETFROM:-0500
TZOFFSETTO:-0400
TZNAME:EDT
DTSTART:20250309T070000
END:DAYLIGHT
BEGIN:STANDARD
TZOFFSETFROM:-0400
TZOFFSETTO:-0500
TZNAME:EST
DTSTART:20251102T060000
END:STANDARD
BEGIN:DAYLIGHT
TZOFFSETFROM:-0500
TZOFFSETTO:-0400
TZNAME:EDT
DTSTART:20260308T070000
END:DAYLIGHT
BEGIN:STANDARD
TZOFFSETFROM:-0400
TZOFFSETTO:-0500
TZNAME:EST
DTSTART:20261101T060000
END:STANDARD
END:VTIMEZONE
BEGIN:VEVENT
DTSTART;TZID=America/New_York:20250201T090000
DTEND;TZID=America/New_York:20250201T113000
DTSTAMP:20260419T191017
CREATED:20250125T204129Z
LAST-MODIFIED:20250125T204138Z
UID:2779-1738400400-1738409400@samuelbecketts.com
SUMMARY:Six Nations: Scotland v Italy
DESCRIPTION:
URL:https://samuelbecketts.com/event/six-nations-scotland-v-italy/
CATEGORIES:Music & Events,Six Nations & Sports
END:VEVENT
BEGIN:VEVENT
DTSTART;TZID=America/New_York:20250201T110000
DTEND;TZID=America/New_York:20250201T130000
DTSTAMP:20260419T191017
CREATED:20241227T232151Z
LAST-MODIFIED:20250125T203842Z
UID:2682-1738407600-1738414800@samuelbecketts.com
SUMMARY:Six Nations: Ireland v England
DESCRIPTION:
URL:https://samuelbecketts.com/event/six-nations-ireland-v-england/
CATEGORIES:Music & Events,Six Nations & Sports
END:VEVENT
BEGIN:VEVENT
DTSTART;TZID=America/New_York:20250208T090000
DTEND;TZID=America/New_York:20250208T113000
DTSTAMP:20260419T191017
CREATED:20250125T204220Z
LAST-MODIFIED:20250125T204220Z
UID:2781-1739005200-1739014200@samuelbecketts.com
SUMMARY:Six Nations: Italy v Wales
DESCRIPTION:
URL:https://samuelbecketts.com/event/six-nations-italy-v-wales/
CATEGORIES:Music & Events,Six Nations & Sports
END:VEVENT
BEGIN:VEVENT
DTSTART;TZID=America/New_York:20250208T113000
DTEND;TZID=America/New_York:20250208T133000
DTSTAMP:20260419T191017
CREATED:20241227T232223Z
LAST-MODIFIED:20250125T203858Z
UID:2684-1739014200-1739021400@samuelbecketts.com
SUMMARY:Six Nations: England v France
DESCRIPTION:
URL:https://samuelbecketts.com/event/six-nations-england-v-france/
CATEGORIES:Music & Events,Six Nations & Sports
END:VEVENT
BEGIN:VEVENT
DTSTART;TZID=America/New_York:20250209T100000
DTEND;TZID=America/New_York:20250209T120000
DTSTAMP:20260419T191017
CREATED:20241227T232327Z
LAST-MODIFIED:20250125T203906Z
UID:2686-1739095200-1739102400@samuelbecketts.com
SUMMARY:Six Nations: Ireland v Scotland
DESCRIPTION:
URL:https://samuelbecketts.com/event/six-nations-ireland-v-scotland/
CATEGORIES:Music & Events,Six Nations & Sports
END:VEVENT
BEGIN:VEVENT
DTSTART;TZID=America/New_York:20250222T093000
DTEND;TZID=America/New_York:20250222T113000
DTSTAMP:20260419T191017
CREATED:20241227T232403Z
LAST-MODIFIED:20250125T203928Z
UID:2688-1740216600-1740223800@samuelbecketts.com
SUMMARY:Six Nations: Ireland v Wales
DESCRIPTION:
URL:https://samuelbecketts.com/event/six-nations-ireland-v-wales/
CATEGORIES:Music & Events,Six Nations & Sports
END:VEVENT
BEGIN:VEVENT
DTSTART;TZID=America/New_York:20250222T113000
DTEND;TZID=America/New_York:20250222T133000
DTSTAMP:20260419T191017
CREATED:20241227T232434Z
LAST-MODIFIED:20250125T203939Z
UID:2690-1740223800-1740231000@samuelbecketts.com
SUMMARY:Six Nations: England v Scotland
DESCRIPTION:
URL:https://samuelbecketts.com/event/six-nations-england-v-scotland/
CATEGORIES:Music & Events,Six Nations & Sports
END:VEVENT
BEGIN:VEVENT
DTSTART;TZID=America/New_York:20250223T100000
DTEND;TZID=America/New_York:20250223T120000
DTSTAMP:20260419T191017
CREATED:20241227T232459Z
LAST-MODIFIED:20250125T203949Z
UID:2692-1740304800-1740312000@samuelbecketts.com
SUMMARY:Six Nations: Italy v France
DESCRIPTION:
URL:https://samuelbecketts.com/event/six-nations-italy-v-france/
CATEGORIES:Music & Events,Six Nations & Sports
END:VEVENT
END:VCALENDAR