BEGIN:VCALENDAR
VERSION:2.0
PRODID:-//Samuel Beckett&#039;s Irish Gastro Pub - ECPv6.15.20//NONSGML v1.0//EN
CALSCALE:GREGORIAN
METHOD:PUBLISH
X-WR-CALNAME:Samuel Beckett&#039;s Irish Gastro Pub
X-ORIGINAL-URL:https://samuelbecketts.com
X-WR-CALDESC:Events for Samuel Beckett&#039;s Irish Gastro Pub
REFRESH-INTERVAL;VALUE=DURATION:PT1H
X-Robots-Tag:noindex
X-PUBLISHED-TTL:PT1H
BEGIN:VTIMEZONE
TZID:America/New_York
BEGIN:DAYLIGHT
TZOFFSETFROM:-0500
TZOFFSETTO:-0400
TZNAME:EDT
DTSTART:20240310T070000
END:DAYLIGHT
BEGIN:STANDARD
TZOFFSETFROM:-0400
TZOFFSETTO:-0500
TZNAME:EST
DTSTART:20241103T060000
END:STANDARD
BEGIN:DAYLIGHT
TZOFFSETFROM:-0500
TZOFFSETTO:-0400
TZNAME:EDT
DTSTART:20250309T070000
END:DAYLIGHT
BEGIN:STANDARD
TZOFFSETFROM:-0400
TZOFFSETTO:-0500
TZNAME:EST
DTSTART:20251102T060000
END:STANDARD
BEGIN:DAYLIGHT
TZOFFSETFROM:-0500
TZOFFSETTO:-0400
TZNAME:EDT
DTSTART:20260308T070000
END:DAYLIGHT
BEGIN:STANDARD
TZOFFSETFROM:-0400
TZOFFSETTO:-0500
TZNAME:EST
DTSTART:20261101T060000
END:STANDARD
END:VTIMEZONE
BEGIN:VEVENT
DTSTART;TZID=America/New_York:20250118T080000
DTEND;TZID=America/New_York:20250118T230000
DTSTAMP:20260419T211613
CREATED:20250121T005020Z
LAST-MODIFIED:20250121T005020Z
UID:2764-1737187200-1737241200@samuelbecketts.com
SUMMARY:Commanders v. Lions
DESCRIPTION:
URL:https://samuelbecketts.com/event/commanders-v-lions/
CATEGORIES:Six Nations & Sports
END:VEVENT
BEGIN:VEVENT
DTSTART;TZID=America/New_York:20250126T150000
DTEND;TZID=America/New_York:20250126T180000
DTSTAMP:20260419T211613
CREATED:20250121T005041Z
LAST-MODIFIED:20250125T203751Z
UID:2766-1737903600-1737914400@samuelbecketts.com
SUMMARY:Commanders v. Eagles
DESCRIPTION:
URL:https://samuelbecketts.com/event/commanders-v-eagles/
CATEGORIES:Music & Events,Six Nations & Sports
END:VEVENT
BEGIN:VEVENT
DTSTART;TZID=America/New_York:20250126T183000
DTEND;TZID=America/New_York:20250126T213000
DTSTAMP:20260419T211613
CREATED:20250121T005117Z
LAST-MODIFIED:20250125T203741Z
UID:2768-1737916200-1737927000@samuelbecketts.com
SUMMARY:Bills v. Chiefs
DESCRIPTION:
URL:https://samuelbecketts.com/event/bills-v-chiefs/
CATEGORIES:Music & Events,Six Nations & Sports
END:VEVENT
BEGIN:VEVENT
DTSTART;TZID=America/New_York:20250131T150000
DTEND;TZID=America/New_York:20250131T170000
DTSTAMP:20260419T211613
CREATED:20241227T232119Z
LAST-MODIFIED:20250125T203828Z
UID:2680-1738335600-1738342800@samuelbecketts.com
SUMMARY:Six Nations: France v Wales
DESCRIPTION:
URL:https://samuelbecketts.com/event/six-nations-france-v-wales/
CATEGORIES:Music & Events,Six Nations & Sports
END:VEVENT
END:VCALENDAR