BEGIN:VCALENDAR
VERSION:2.0
PRODID:-//Samuel Beckett&#039;s Irish Gastro Pub - ECPv6.15.20//NONSGML v1.0//EN
CALSCALE:GREGORIAN
METHOD:PUBLISH
X-ORIGINAL-URL:https://samuelbecketts.com
X-WR-CALDESC:Events for Samuel Beckett&#039;s Irish Gastro Pub
REFRESH-INTERVAL;VALUE=DURATION:PT1H
X-Robots-Tag:noindex
X-PUBLISHED-TTL:PT1H
BEGIN:VTIMEZONE
TZID:America/New_York
BEGIN:DAYLIGHT
TZOFFSETFROM:-0500
TZOFFSETTO:-0400
TZNAME:EDT
DTSTART:20230312T070000
END:DAYLIGHT
BEGIN:STANDARD
TZOFFSETFROM:-0400
TZOFFSETTO:-0500
TZNAME:EST
DTSTART:20231105T060000
END:STANDARD
BEGIN:DAYLIGHT
TZOFFSETFROM:-0500
TZOFFSETTO:-0400
TZNAME:EDT
DTSTART:20240310T070000
END:DAYLIGHT
BEGIN:STANDARD
TZOFFSETFROM:-0400
TZOFFSETTO:-0500
TZNAME:EST
DTSTART:20241103T060000
END:STANDARD
BEGIN:DAYLIGHT
TZOFFSETFROM:-0500
TZOFFSETTO:-0400
TZNAME:EDT
DTSTART:20250309T070000
END:DAYLIGHT
BEGIN:STANDARD
TZOFFSETFROM:-0400
TZOFFSETTO:-0500
TZNAME:EST
DTSTART:20251102T060000
END:STANDARD
END:VTIMEZONE
BEGIN:VEVENT
DTSTART;TZID=America/New_York:20240907T120000
DTEND;TZID=America/New_York:20240907T143000
DTSTAMP:20260420T052055
CREATED:20240629T235816Z
LAST-MODIFIED:20240629T235816Z
UID:2145-1725710400-1725719400@samuelbecketts.com
SUMMARY:Ireland Football v. England
DESCRIPTION:
URL:https://samuelbecketts.com/event/ireland-football-v-england/
CATEGORIES:Six Nations & Sports
END:VEVENT
BEGIN:VEVENT
DTSTART;TZID=America/New_York:20240907T193000
DTEND;TZID=America/New_York:20240907T220000
DTSTAMP:20260420T052055
CREATED:20240712T180536Z
LAST-MODIFIED:20240712T180536Z
UID:2233-1725737400-1725746400@samuelbecketts.com
SUMMARY:DC United
DESCRIPTION:
URL:https://samuelbecketts.com/event/dc-united-7/
CATEGORIES:Six Nations & Sports
END:VEVENT
BEGIN:VEVENT
DTSTART;TZID=America/New_York:20240910T143000
DTEND;TZID=America/New_York:20240910T160000
DTSTAMP:20260420T052055
CREATED:20240629T235847Z
LAST-MODIFIED:20240629T235847Z
UID:2147-1725978600-1725984000@samuelbecketts.com
SUMMARY:Ireland Football v. Greece
DESCRIPTION:
URL:https://samuelbecketts.com/event/ireland-football-v-greece/
CATEGORIES:Six Nations & Sports
END:VEVENT
BEGIN:VEVENT
DTSTART;TZID=America/New_York:20240914T193000
DTEND;TZID=America/New_York:20240914T220000
DTSTAMP:20260420T052055
CREATED:20240712T180553Z
LAST-MODIFIED:20240712T180553Z
UID:2235-1726342200-1726351200@samuelbecketts.com
SUMMARY:DC United
DESCRIPTION:
URL:https://samuelbecketts.com/event/dc-united-8/
CATEGORIES:Six Nations & Sports
END:VEVENT
BEGIN:VEVENT
DTSTART;TZID=America/New_York:20240920T143000
DTEND;TZID=America/New_York:20240920T170000
DTSTAMP:20260420T052055
CREATED:20240629T235916Z
LAST-MODIFIED:20240629T235916Z
UID:2149-1726842600-1726851600@samuelbecketts.com
SUMMARY:Leinster Rugby v. Edinburgh
DESCRIPTION:
URL:https://samuelbecketts.com/event/leinster-rugby-v-edinburgh/
CATEGORIES:Six Nations & Sports
END:VEVENT
BEGIN:VEVENT
DTSTART;TZID=America/New_York:20240921T143000
DTEND;TZID=America/New_York:20240921T170000
DTSTAMP:20260420T052055
CREATED:20240629T235939Z
LAST-MODIFIED:20240629T235939Z
UID:2151-1726929000-1726938000@samuelbecketts.com
SUMMARY:Munster Rugby v. Connacht
DESCRIPTION:
URL:https://samuelbecketts.com/event/munster-rugby-v-connacht/
CATEGORIES:Six Nations & Sports
END:VEVENT
BEGIN:VEVENT
DTSTART;TZID=America/New_York:20240927T143000
DTEND;TZID=America/New_York:20240927T170000
DTSTAMP:20260420T052055
CREATED:20240630T000010Z
LAST-MODIFIED:20240630T000018Z
UID:2155-1727447400-1727456400@samuelbecketts.com
SUMMARY:Leinster Rugby v. Dragons
DESCRIPTION:
URL:https://samuelbecketts.com/event/leinster-rugby-v-dragons/
CATEGORIES:Six Nations & Sports
END:VEVENT
BEGIN:VEVENT
DTSTART;TZID=America/New_York:20240928T143000
DTEND;TZID=America/New_York:20240928T170000
DTSTAMP:20260420T052055
CREATED:20240630T000055Z
LAST-MODIFIED:20240630T000055Z
UID:2157-1727533800-1727542800@samuelbecketts.com
SUMMARY:Connacht Rugby v. Sharks
DESCRIPTION:
URL:https://samuelbecketts.com/event/connacht-rugby-v-sharks/
CATEGORIES:Six Nations & Sports
END:VEVENT
BEGIN:VEVENT
DTSTART;TZID=America/New_York:20240928T193000
DTEND;TZID=America/New_York:20240928T220000
DTSTAMP:20260420T052055
CREATED:20240712T180616Z
LAST-MODIFIED:20240712T180616Z
UID:2237-1727551800-1727560800@samuelbecketts.com
SUMMARY:DC United
DESCRIPTION:
URL:https://samuelbecketts.com/event/dc-united-9/
CATEGORIES:Six Nations & Sports
END:VEVENT
END:VCALENDAR