BEGIN:VCALENDAR
VERSION:2.0
PRODID:-//Samuel Beckett&#039;s Irish Gastro Pub - ECPv6.15.20//NONSGML v1.0//EN
CALSCALE:GREGORIAN
METHOD:PUBLISH
X-WR-CALNAME:Samuel Beckett&#039;s Irish Gastro Pub
X-ORIGINAL-URL:https://samuelbecketts.com
X-WR-CALDESC:Events for Samuel Beckett&#039;s Irish Gastro Pub
REFRESH-INTERVAL;VALUE=DURATION:PT1H
X-Robots-Tag:noindex
X-PUBLISHED-TTL:PT1H
BEGIN:VTIMEZONE
TZID:America/New_York
BEGIN:DAYLIGHT
TZOFFSETFROM:-0500
TZOFFSETTO:-0400
TZNAME:EDT
DTSTART:20230312T070000
END:DAYLIGHT
BEGIN:STANDARD
TZOFFSETFROM:-0400
TZOFFSETTO:-0500
TZNAME:EST
DTSTART:20231105T060000
END:STANDARD
BEGIN:DAYLIGHT
TZOFFSETFROM:-0500
TZOFFSETTO:-0400
TZNAME:EDT
DTSTART:20240310T070000
END:DAYLIGHT
BEGIN:STANDARD
TZOFFSETFROM:-0400
TZOFFSETTO:-0500
TZNAME:EST
DTSTART:20241103T060000
END:STANDARD
BEGIN:DAYLIGHT
TZOFFSETFROM:-0500
TZOFFSETTO:-0400
TZNAME:EDT
DTSTART:20250309T070000
END:DAYLIGHT
BEGIN:STANDARD
TZOFFSETFROM:-0400
TZOFFSETTO:-0500
TZNAME:EST
DTSTART:20251102T060000
END:STANDARD
END:VTIMEZONE
BEGIN:VEVENT
DTSTART;TZID=America/New_York:20240824T193000
DTEND;TZID=America/New_York:20240824T220000
DTSTAMP:20260420T072224
CREATED:20240712T180457Z
LAST-MODIFIED:20240712T180457Z
UID:2229-1724527800-1724536800@samuelbecketts.com
SUMMARY:DC United
DESCRIPTION:
URL:https://samuelbecketts.com/event/dc-united-5/
CATEGORIES:Six Nations & Sports
END:VEVENT
BEGIN:VEVENT
DTSTART;TZID=America/New_York:20240831T193000
DTEND;TZID=America/New_York:20240831T220000
DTSTAMP:20260420T072224
CREATED:20240712T180518Z
LAST-MODIFIED:20240712T180518Z
UID:2231-1725132600-1725141600@samuelbecketts.com
SUMMARY:DC United
DESCRIPTION:
URL:https://samuelbecketts.com/event/dc-united-6/
CATEGORIES:Six Nations & Sports
END:VEVENT
END:VCALENDAR