BEGIN:VCALENDAR
VERSION:2.0
PRODID:-//Samuel Beckett&#039;s Irish Gastro Pub - ECPv6.15.20//NONSGML v1.0//EN
CALSCALE:GREGORIAN
METHOD:PUBLISH
X-ORIGINAL-URL:https://samuelbecketts.com
X-WR-CALDESC:Events for Samuel Beckett&#039;s Irish Gastro Pub
REFRESH-INTERVAL;VALUE=DURATION:PT1H
X-Robots-Tag:noindex
X-PUBLISHED-TTL:PT1H
BEGIN:VTIMEZONE
TZID:America/New_York
BEGIN:DAYLIGHT
TZOFFSETFROM:-0500
TZOFFSETTO:-0400
TZNAME:EDT
DTSTART:20230312T070000
END:DAYLIGHT
BEGIN:STANDARD
TZOFFSETFROM:-0400
TZOFFSETTO:-0500
TZNAME:EST
DTSTART:20231105T060000
END:STANDARD
BEGIN:DAYLIGHT
TZOFFSETFROM:-0500
TZOFFSETTO:-0400
TZNAME:EDT
DTSTART:20240310T070000
END:DAYLIGHT
BEGIN:STANDARD
TZOFFSETFROM:-0400
TZOFFSETTO:-0500
TZNAME:EST
DTSTART:20241103T060000
END:STANDARD
BEGIN:DAYLIGHT
TZOFFSETFROM:-0500
TZOFFSETTO:-0400
TZNAME:EDT
DTSTART:20250309T070000
END:DAYLIGHT
BEGIN:STANDARD
TZOFFSETFROM:-0400
TZOFFSETTO:-0500
TZNAME:EST
DTSTART:20251102T060000
END:STANDARD
END:VTIMEZONE
BEGIN:VEVENT
DTSTART;TZID=America/New_York:20240629T143000
DTEND;TZID=America/New_York:20240629T170000
DTSTAMP:20260420T105656
CREATED:20240629T235955Z
LAST-MODIFIED:20240629T235955Z
UID:2153-1719671400-1719680400@samuelbecketts.com
SUMMARY:Ulster Rugby v. Glasgow Warriors
DESCRIPTION:
URL:https://samuelbecketts.com/event/ulster-rugby-v-glasgow-warriors/
CATEGORIES:Six Nations & Sports
END:VEVENT
BEGIN:VEVENT
DTSTART;TZID=America/New_York:20240629T193000
DTEND;TZID=America/New_York:20240629T213000
DTSTAMP:20260420T105656
CREATED:20240629T215914Z
LAST-MODIFIED:20240629T215914Z
UID:2107-1719689400-1719696600@samuelbecketts.com
SUMMARY:DC United Game
DESCRIPTION:
URL:https://samuelbecketts.com/event/dc-united-game/
CATEGORIES:Six Nations & Sports
END:VEVENT
BEGIN:VEVENT
DTSTART;TZID=America/New_York:20240629T200000
DTEND;TZID=America/New_York:20240629T223000
DTSTAMP:20260420T105656
CREATED:20240630T220222Z
LAST-MODIFIED:20240629T231444Z
UID:2116-1719691200-1719700200@samuelbecketts.com
SUMMARY:Jamaica v. Venezuela Copa America
DESCRIPTION:
URL:https://samuelbecketts.com/event/jamaica-v-venezuela-copa-america/
CATEGORIES:Six Nations & Sports
END:VEVENT
BEGIN:VEVENT
DTSTART;TZID=America/New_York:20240630T120000
DTEND;TZID=America/New_York:20240630T143000
DTSTAMP:20260420T105656
CREATED:20240629T220107Z
LAST-MODIFIED:20240629T220107Z
UID:2110-1719748800-1719757800@samuelbecketts.com
SUMMARY:Slovakia v. England Euro Cup
DESCRIPTION:
URL:https://samuelbecketts.com/event/slovakia-v-england-euro-cup/
CATEGORIES:Six Nations & Sports
END:VEVENT
BEGIN:VEVENT
DTSTART;TZID=America/New_York:20240630T150000
DTEND;TZID=America/New_York:20240630T173000
DTSTAMP:20260420T105656
CREATED:20240629T220134Z
LAST-MODIFIED:20240629T220134Z
UID:2112-1719759600-1719768600@samuelbecketts.com
SUMMARY:Spain v. Georgia Euro Cup
DESCRIPTION:
URL:https://samuelbecketts.com/event/spain-v-georgia-euro-cup/
CATEGORIES:Six Nations & Sports
END:VEVENT
BEGIN:VEVENT
DTSTART;TZID=America/New_York:20240630T200000
DTEND;TZID=America/New_York:20240630T223000
DTSTAMP:20260420T105656
CREATED:20240629T220201Z
LAST-MODIFIED:20240629T220201Z
UID:2114-1719777600-1719786600@samuelbecketts.com
SUMMARY:Mexico v. Ecuador Copa America
DESCRIPTION:
URL:https://samuelbecketts.com/event/mexico-v-ecuador-copa-america/
CATEGORIES:Six Nations & Sports
END:VEVENT
END:VCALENDAR