BEGIN:VCALENDAR
VERSION:2.0
PRODID:-//Samuel Beckett&#039;s Irish Gastro Pub - ECPv6.15.20//NONSGML v1.0//EN
CALSCALE:GREGORIAN
METHOD:PUBLISH
X-ORIGINAL-URL:https://samuelbecketts.com
X-WR-CALDESC:Events for Samuel Beckett&#039;s Irish Gastro Pub
REFRESH-INTERVAL;VALUE=DURATION:PT1H
X-Robots-Tag:noindex
X-PUBLISHED-TTL:PT1H
BEGIN:VTIMEZONE
TZID:America/New_York
BEGIN:DAYLIGHT
TZOFFSETFROM:-0500
TZOFFSETTO:-0400
TZNAME:EDT
DTSTART:20220313T070000
END:DAYLIGHT
BEGIN:STANDARD
TZOFFSETFROM:-0400
TZOFFSETTO:-0500
TZNAME:EST
DTSTART:20221106T060000
END:STANDARD
BEGIN:DAYLIGHT
TZOFFSETFROM:-0500
TZOFFSETTO:-0400
TZNAME:EDT
DTSTART:20230312T070000
END:DAYLIGHT
BEGIN:STANDARD
TZOFFSETFROM:-0400
TZOFFSETTO:-0500
TZNAME:EST
DTSTART:20231105T060000
END:STANDARD
BEGIN:DAYLIGHT
TZOFFSETFROM:-0500
TZOFFSETTO:-0400
TZNAME:EDT
DTSTART:20240310T070000
END:DAYLIGHT
BEGIN:STANDARD
TZOFFSETFROM:-0400
TZOFFSETTO:-0500
TZNAME:EST
DTSTART:20241103T060000
END:STANDARD
END:VTIMEZONE
BEGIN:VEVENT
DTSTART;TZID=America/New_York:20230204T091500
DTEND;TZID=America/New_York:20230204T091500
DTSTAMP:20260423T180653
CREATED:20230409T172350Z
LAST-MODIFIED:20230409T172828Z
UID:649-1675502100-1675502100@samuelbecketts.com
SUMMARY:Wales vs Ireland
DESCRIPTION:We will open 30 minutes before kick-off for all early games.
URL:https://samuelbecketts.com/event/wales-vs-ireland/
CATEGORIES:Six Nations & Sports
END:VEVENT
BEGIN:VEVENT
DTSTART;TZID=America/New_York:20230204T114500
DTEND;TZID=America/New_York:20230204T114500
DTSTAMP:20260423T180653
CREATED:20230409T172911Z
LAST-MODIFIED:20230409T172911Z
UID:663-1675511100-1675511100@samuelbecketts.com
SUMMARY:England vs Scotland
DESCRIPTION:We will open 30 minutes before kick-off for all early games.
URL:https://samuelbecketts.com/event/england-vs-scotland/
CATEGORIES:Six Nations & Sports
END:VEVENT
BEGIN:VEVENT
DTSTART;TZID=America/New_York:20230205T100000
DTEND;TZID=America/New_York:20230205T100000
DTSTAMP:20260423T180653
CREATED:20230409T172946Z
LAST-MODIFIED:20230409T172946Z
UID:666-1675591200-1675591200@samuelbecketts.com
SUMMARY:Italy vs France
DESCRIPTION:We will open 30 minutes before kick-off for all early games.
URL:https://samuelbecketts.com/event/italy-vs-france/
CATEGORIES:Six Nations & Sports
END:VEVENT
BEGIN:VEVENT
DTSTART;TZID=America/New_York:20230211T091500
DTEND;TZID=America/New_York:20230211T091500
DTSTAMP:20260423T180653
CREATED:20230409T173020Z
LAST-MODIFIED:20230409T173020Z
UID:668-1676106900-1676106900@samuelbecketts.com
SUMMARY:Ireland vs France
DESCRIPTION:We will open 30 minutes before kick-off for all early games.
URL:https://samuelbecketts.com/event/ireland-vs-france/
CATEGORIES:Six Nations & Sports
END:VEVENT
BEGIN:VEVENT
DTSTART;TZID=America/New_York:20230211T114500
DTEND;TZID=America/New_York:20230211T114500
DTSTAMP:20260423T180653
CREATED:20230409T173050Z
LAST-MODIFIED:20230409T175454Z
UID:670-1676115900-1676115900@samuelbecketts.com
SUMMARY:Scotland vs Wales
DESCRIPTION:We will open 30 minutes before kick-off for all early games.
URL:https://samuelbecketts.com/event/scotland-vs-wales/
CATEGORIES:Six Nations & Sports
END:VEVENT
BEGIN:VEVENT
DTSTART;TZID=America/New_York:20230212T100000
DTEND;TZID=America/New_York:20230212T100000
DTSTAMP:20260423T180653
CREATED:20230409T173116Z
LAST-MODIFIED:20230409T175454Z
UID:672-1676196000-1676196000@samuelbecketts.com
SUMMARY:England vs Italy
DESCRIPTION:We will open 30 minutes before kick-off for all early games.
URL:https://samuelbecketts.com/event/england-vs-italy/
CATEGORIES:Six Nations & Sports
END:VEVENT
BEGIN:VEVENT
DTSTART;TZID=America/New_York:20230225T091500
DTEND;TZID=America/New_York:20230225T091500
DTSTAMP:20260423T180653
CREATED:20230409T173220Z
LAST-MODIFIED:20230409T175454Z
UID:674-1677316500-1677316500@samuelbecketts.com
SUMMARY:Italy vs Ireland
DESCRIPTION:We will open 30 minutes before kick-off for all early games.
URL:https://samuelbecketts.com/event/italy-vs-ireland/
CATEGORIES:Six Nations & Sports
END:VEVENT
BEGIN:VEVENT
DTSTART;TZID=America/New_York:20230225T114500
DTEND;TZID=America/New_York:20230225T114500
DTSTAMP:20260423T180653
CREATED:20230409T173245Z
LAST-MODIFIED:20230409T175454Z
UID:676-1677325500-1677325500@samuelbecketts.com
SUMMARY:Wales vs England
DESCRIPTION:We will open 30 minutes before kick-off for all early games.
URL:https://samuelbecketts.com/event/wales-vs-england/
CATEGORIES:Six Nations & Sports
END:VEVENT
BEGIN:VEVENT
DTSTART;TZID=America/New_York:20230226T100000
DTEND;TZID=America/New_York:20230226T100000
DTSTAMP:20260423T180653
CREATED:20230409T173308Z
LAST-MODIFIED:20230409T175454Z
UID:678-1677405600-1677405600@samuelbecketts.com
SUMMARY:France vs Scotland
DESCRIPTION:We will open 30 minutes before kick-off for all early games.
URL:https://samuelbecketts.com/event/france-vs-scotland/
CATEGORIES:Six Nations & Sports
END:VEVENT
END:VCALENDAR